BEGIN:VCALENDAR
VERSION:2.0
PRODID:-//Windsor &amp; Eton - ECPv6.15.20//NONSGML v1.0//EN
CALSCALE:GREGORIAN
METHOD:PUBLISH
X-WR-CALNAME:Windsor &amp; Eton
X-ORIGINAL-URL:https://webrew.co.uk
X-WR-CALDESC:Events for Windsor &amp; Eton
REFRESH-INTERVAL;VALUE=DURATION:PT1H
X-Robots-Tag:noindex
X-PUBLISHED-TTL:PT1H
BEGIN:VTIMEZONE
TZID:UTC
BEGIN:STANDARD
TZOFFSETFROM:+0000
TZOFFSETTO:+0000
TZNAME:UTC
DTSTART:20250101T000000
END:STANDARD
END:VTIMEZONE
BEGIN:VEVENT
DTSTART;TZID=UTC:20260610T190000
DTEND;TZID=UTC:20260610T220000
DTSTAMP:20260421T184414
CREATED:20260105T142951Z
LAST-MODIFIED:20260105T142951Z
UID:1861-1781118000-1781128800@webrew.co.uk
SUMMARY:Open Mic Night with Aaron Norton
DESCRIPTION:[vc_section full_width=”stretch_row” el_class=”inner-banner”][vc_row][vc_column][vc_single_image image=”1504″ img_size=”full” alignment=”center” css=””][vc_row_inner el_class=”banner-content-row”][vc_column_inner][/vc_column_inner][/vc_row_inner][/vc_column][/vc_row][/vc_section]
URL:https://webrew.co.uk/event/open-mic-night-with-aaron-norton-14/
LOCATION:Unit 4 Taproom
CATEGORIES:Music
ATTACH;FMTTYPE=image/png:https://webrew.co.uk/wp-content/uploads/2025/10/Open-Mic-Night-For-Web.png
END:VEVENT
BEGIN:VEVENT
DTSTART;TZID=UTC:20260606T190000
DTEND;TZID=UTC:20260606T233000
DTSTAMP:20260421T184414
CREATED:20260106T165705Z
LAST-MODIFIED:20260106T165751Z
UID:1906-1780772400-1780788600@webrew.co.uk
SUMMARY:KEVIN CRUISE'S CHAOTIC CABARET 80'S NIGHT
DESCRIPTION:[vc_section full_width=”stretch_row” el_class=”inner-banner”][vc_row][vc_column][vc_single_image image=”1744″ img_size=”full” alignment=”center” css=””][vc_row_inner el_class=”banner-content-row”][vc_column_inner][vc_custom_heading text=”Whats On” font_container=”tag:h3|text_align:left” use_theme_fonts=”yes” css=”” el_class=”sub-heading title-color-red”][vc_custom_heading text=”CHAOTIC CABARET 80’S NIGHT” use_theme_fonts=”yes” css=”” el_class=”banner-sub-heading”][/vc_column_inner][/vc_row_inner][/vc_column][/vc_row][/vc_section]
URL:https://webrew.co.uk/event/kevin-cruises-chaotic-cabaret-80s-night-3/
LOCATION:Unit 4 Taproom
CATEGORIES:Music,Party
ATTACH;FMTTYPE=image/jpeg:https://webrew.co.uk/wp-content/uploads/2025/12/KC-290325-40-scaled.jpg
END:VEVENT
BEGIN:VEVENT
DTSTART;TZID=UTC:20260602T190000
DTEND;TZID=UTC:20260602T230000
DTSTAMP:20260421T184414
CREATED:20260224T153419Z
LAST-MODIFIED:20260224T153419Z
UID:2158-1780426800-1780441200@webrew.co.uk
SUMMARY:WILDCAT'S GET BUSY WITH THE QUIZZIE!
DESCRIPTION:[vc_section full_width=”stretch_row” el_class=”inner-banner”][vc_row][vc_column][vc_single_image image=”2155″ img_size=”full” alignment=”center” css=””][vc_row_inner el_class=”banner-content-row”][vc_column_inner][vc_custom_heading text=”Whats On” font_container=”tag:h3|text_align:left” use_theme_fonts=”yes” css=”” el_class=”sub-heading title-color-red”][vc_custom_heading text=”WILDCAT’S GET BUSY WITH THE QUIZZIE!” use_theme_fonts=”yes” css=”” el_class=”banner-sub-heading”][/vc_column_inner][/vc_row_inner][/vc_column][/vc_row][/vc_section]
URL:https://webrew.co.uk/event/wildcats-get-busy-with-the-quizzie-2/
LOCATION:Unit 4 Taproom
CATEGORIES:Quiz
ATTACH;FMTTYPE=image/png:https://webrew.co.uk/wp-content/uploads/2026/02/Wildcats-Get-Busy-With-The-Quizzie.png
END:VEVENT
BEGIN:VEVENT
DTSTART;TZID=UTC:20260527T190000
DTEND;TZID=UTC:20260527T220000
DTSTAMP:20260421T184414
CREATED:20260105T142739Z
LAST-MODIFIED:20260105T142739Z
UID:1859-1779908400-1779919200@webrew.co.uk
SUMMARY:Open Mic Night with Aaron Norton
DESCRIPTION:[vc_section full_width=”stretch_row” el_class=”inner-banner”][vc_row][vc_column][vc_single_image image=”1504″ img_size=”full” alignment=”center” css=””][vc_row_inner el_class=”banner-content-row”][vc_column_inner][/vc_column_inner][/vc_row_inner][/vc_column][/vc_row][/vc_section]
URL:https://webrew.co.uk/event/open-mic-night-with-aaron-norton-13/
LOCATION:Unit 4 Taproom
CATEGORIES:Music
ATTACH;FMTTYPE=image/png:https://webrew.co.uk/wp-content/uploads/2025/10/Open-Mic-Night-For-Web.png
END:VEVENT
BEGIN:VEVENT
DTSTART;TZID=UTC:20260517T121500
DTEND;TZID=UTC:20260517T183000
DTSTAMP:20260421T184414
CREATED:20260105T161542Z
LAST-MODIFIED:20260204T145615Z
UID:1903-1779020100-1779042600@webrew.co.uk
SUMMARY:W6N On The Big Screens
DESCRIPTION:[vc_section full_width=”stretch_row” el_class=”inner-banner”][vc_row][vc_column][vc_single_image image=”1897″ img_size=”full” alignment=”center” css=””][vc_row_inner el_class=”banner-content-row”][vc_column_inner][vc_custom_heading text=”Whats On” font_container=”tag:h3|text_align:left” use_theme_fonts=”yes” css=”” el_class=”sub-heading title-color-red”][vc_custom_heading text=”W6N On The Big Screens” use_theme_fonts=”yes” css=”” el_class=”banner-sub-heading”][/vc_column_inner][/vc_row_inner][/vc_column][/vc_row][/vc_section]
URL:https://webrew.co.uk/event/w6n-on-the-big-screens-3/
LOCATION:Unit 4 Taproom
CATEGORIES:Sport
ATTACH;FMTTYPE=image/png:https://webrew.co.uk/wp-content/uploads/2026/01/Womens-rugby.png
END:VEVENT
BEGIN:VEVENT
DTSTART;TZID=UTC:20260514T190000
DTEND;TZID=UTC:20260514T210000
DTSTAMP:20260421T184414
CREATED:20260102T153203Z
LAST-MODIFIED:20260102T153203Z
UID:1809-1778785200-1778792400@webrew.co.uk
SUMMARY:KURANSINGS LIVE AT THE GEORGE
DESCRIPTION:[vc_section full_width=”stretch_row” el_class=”inner-banner”][vc_row][vc_column][vc_single_image image=”823″ img_size=”full” css=””][vc_row_inner el_class=”banner-content-row”][vc_column_inner][vc_custom_heading text=”Whats On” font_container=”tag:h3|text_align:left” use_theme_fonts=”yes” css=”” el_class=”sub-heading title-color-red”][vc_custom_heading text=”LIVE MUSIC AT THE GEORGE” use_theme_fonts=”yes” css=”” el_class=”banner-sub-heading”][/vc_column_inner][/vc_row_inner][/vc_column][/vc_row][/vc_section]
URL:https://webrew.co.uk/event/kuransings-live-at-the-george-5/
LOCATION:The George
CATEGORIES:Music
ATTACH;FMTTYPE=image/jpeg:https://webrew.co.uk/wp-content/uploads/2025/08/IMG_2279-e1756313090533.jpg
END:VEVENT
BEGIN:VEVENT
DTSTART;TZID=UTC:20260513T190000
DTEND;TZID=UTC:20260513T220000
DTSTAMP:20260421T184414
CREATED:20260105T142452Z
LAST-MODIFIED:20260105T142452Z
UID:1857-1778698800-1778709600@webrew.co.uk
SUMMARY:Open Mic Night with Aaron Norton
DESCRIPTION:[vc_section full_width=”stretch_row” el_class=”inner-banner”][vc_row][vc_column][vc_single_image image=”1504″ img_size=”full” alignment=”center” css=””][vc_row_inner el_class=”banner-content-row”][vc_column_inner][/vc_column_inner][/vc_row_inner][/vc_column][/vc_row][/vc_section]
URL:https://webrew.co.uk/event/open-mic-night-with-aaron-norton-12/
LOCATION:Unit 4 Taproom
CATEGORIES:Music
ATTACH;FMTTYPE=image/png:https://webrew.co.uk/wp-content/uploads/2025/10/Open-Mic-Night-For-Web.png
END:VEVENT
BEGIN:VEVENT
DTSTART;TZID=UTC:20260509T190000
DTEND;TZID=UTC:20260509T233000
DTSTAMP:20260421T184414
CREATED:20260102T100829Z
LAST-MODIFIED:20260106T095505Z
UID:1776-1778353200-1778369400@webrew.co.uk
SUMMARY:KEVIN CRUISE'S CHAOTIC CABARET 80'S NIGHT
DESCRIPTION:[vc_section full_width=”stretch_row” el_class=”inner-banner”][vc_row][vc_column][vc_single_image image=”1744″ img_size=”full” alignment=”center” css=””][vc_row_inner el_class=”banner-content-row”][vc_column_inner][vc_custom_heading text=”Whats On” font_container=”tag:h3|text_align:left” use_theme_fonts=”yes” css=”” el_class=”sub-heading title-color-red”][vc_custom_heading text=”CHAOTIC CABARET 80’S NIGHT” use_theme_fonts=”yes” css=”” el_class=”banner-sub-heading”][/vc_column_inner][/vc_row_inner][/vc_column][/vc_row][/vc_section]
URL:https://webrew.co.uk/event/kevin-cruises-chaotic-cabaret-80s-night-2/
LOCATION:Unit 4 Taproom
CATEGORIES:Music,Party
ATTACH;FMTTYPE=image/jpeg:https://webrew.co.uk/wp-content/uploads/2025/12/KC-290325-40-scaled.jpg
END:VEVENT
BEGIN:VEVENT
DTSTART;TZID=UTC:20260509T140000
DTEND;TZID=UTC:20260509T160000
DTSTAMP:20260421T184414
CREATED:20260204T150342Z
LAST-MODIFIED:20260204T151119Z
UID:2049-1778335200-1778342400@webrew.co.uk
SUMMARY:W6N On The Big Screens
DESCRIPTION:[vc_section full_width=”stretch_row” el_class=”inner-banner”][vc_row][vc_column][vc_single_image image=”1897″ img_size=”full” alignment=”center” css=””][vc_row_inner el_class=”banner-content-row”][vc_column_inner][vc_custom_heading text=”Whats On” font_container=”tag:h3|text_align:left” use_theme_fonts=”yes” css=”” el_class=”sub-heading title-color-red”][vc_custom_heading text=”W6N On The Big Screens” use_theme_fonts=”yes” css=”” el_class=”banner-sub-heading”][/vc_column_inner][/vc_row_inner][/vc_column][/vc_row][/vc_section]
URL:https://webrew.co.uk/event/w6n-on-the-big-screens-4/
LOCATION:Unit 4 Taproom
CATEGORIES:Sport
ATTACH;FMTTYPE=image/png:https://webrew.co.uk/wp-content/uploads/2026/01/Womens-rugby.png
END:VEVENT
BEGIN:VEVENT
DTSTART;TZID=UTC:20260506T190000
DTEND;TZID=UTC:20260506T210000
DTSTAMP:20260421T184414
CREATED:20260402T120225Z
LAST-MODIFIED:20260402T122114Z
UID:2217-1778094000-1778101200@webrew.co.uk
SUMMARY:Spring Make-up class with Levi-Jade Taylor
DESCRIPTION:[vc_row][vc_column][/vc_column][/vc_row]
URL:https://webrew.co.uk/event/spring-make-up-class-with-levi-jade-taylor/
LOCATION:The George
CATEGORIES:Family,Other
ATTACH;FMTTYPE=image/jpeg:https://webrew.co.uk/wp-content/uploads/2026/03/1ec52133-235e-442f-93fb-8a8abbf013b2-scaled.jpg
END:VEVENT
BEGIN:VEVENT
DTSTART;TZID=UTC:20260502T190000
DTEND;TZID=UTC:20260502T230000
DTSTAMP:20260421T184414
CREATED:20260224T155210Z
LAST-MODIFIED:20260227T111442Z
UID:2164-1777748400-1777762800@webrew.co.uk
SUMMARY:WILDCAT'S THAT'S ENTERTAINMENT QUIZ!
DESCRIPTION:[vc_section full_width=”stretch_row” el_class=”inner-banner”][vc_row][vc_column][vc_single_image image=”2155″ img_size=”full” alignment=”center” css=””][vc_row_inner el_class=”banner-content-row”][vc_column_inner][vc_custom_heading text=”Whats On” font_container=”tag:h3|text_align:left” use_theme_fonts=”yes” css=”” el_class=”sub-heading title-color-red”][vc_custom_heading text=”WILDCAT’S THAT’S ENTERTAINMENT QUIZ!” use_theme_fonts=”yes” css=”” el_class=”banner-sub-heading”][/vc_column_inner][/vc_row_inner][/vc_column][/vc_row][/vc_section]
URL:https://webrew.co.uk/event/wildcats-thats-entertainment-quiz/
LOCATION:Unit 4 Taproom
CATEGORIES:Quiz
ATTACH;FMTTYPE=image/png:https://webrew.co.uk/wp-content/uploads/2026/02/Thats-Entertainment-Presentation-1.png
END:VEVENT
BEGIN:VEVENT
DTSTART;TZID=UTC:20260429T190000
DTEND;TZID=UTC:20260429T220000
DTSTAMP:20260421T184414
CREATED:20260105T142333Z
LAST-MODIFIED:20260105T142333Z
UID:1855-1777489200-1777500000@webrew.co.uk
SUMMARY:Open Mic Night with Aaron Norton
DESCRIPTION:[vc_section full_width=”stretch_row” el_class=”inner-banner”][vc_row][vc_column][vc_single_image image=”1504″ img_size=”full” alignment=”center” css=””][vc_row_inner el_class=”banner-content-row”][vc_column_inner][/vc_column_inner][/vc_row_inner][/vc_column][/vc_row][/vc_section]
URL:https://webrew.co.uk/event/open-mic-night-with-aaron-norton-11/
LOCATION:Unit 4 Taproom
CATEGORIES:Music
ATTACH;FMTTYPE=image/png:https://webrew.co.uk/wp-content/uploads/2025/10/Open-Mic-Night-For-Web.png
END:VEVENT
BEGIN:VEVENT
DTSTART;TZID=UTC:20260425T100000
DTEND;TZID=UTC:20260425T230000
DTSTAMP:20260421T184414
CREATED:20260213T094202Z
LAST-MODIFIED:20260415T132617Z
UID:2104-1777111200-1777158000@webrew.co.uk
SUMMARY:JONO'S UFO EVENT
DESCRIPTION:[vc_section full_width=”stretch_row” el_class=”inner-banner”][vc_row][vc_column][vc_single_image image=”2237″ img_size=”full” alignment=”center” css=””][vc_row_inner el_class=”banner-content-row”][vc_column_inner][vc_custom_heading text=”Whats On” font_container=”tag:h3|text_align:left” use_theme_fonts=”yes” css=”” el_class=”sub-heading title-color-red”][vc_custom_heading text=”JONO’S UFO EVENT” use_theme_fonts=”yes” css=”” el_class=”banner-sub-heading”][/vc_column_inner][/vc_row_inner][/vc_column][/vc_row][/vc_section]
URL:https://webrew.co.uk/event/jonos-ufo-event/
LOCATION:Unit 4 Taproom
CATEGORIES:Music,Party
ATTACH;FMTTYPE=image/png:https://webrew.co.uk/wp-content/uploads/2026/04/Jono-UFO-16x9@2x-scaled.png
END:VEVENT
BEGIN:VEVENT
DTSTART;TZID=UTC:20260418T133000
DTEND;TZID=UTC:20260418T190000
DTSTAMP:20260421T184414
CREATED:20260105T161055Z
LAST-MODIFIED:20260204T145350Z
UID:1899-1776519000-1776538800@webrew.co.uk
SUMMARY:W6N On The Big Screens
DESCRIPTION:[vc_section full_width=”stretch_row” el_class=”inner-banner”][vc_row][vc_column][vc_single_image image=”1897″ img_size=”full” alignment=”center” css=””][vc_row_inner el_class=”banner-content-row”][vc_column_inner][vc_custom_heading text=”Whats On” font_container=”tag:h3|text_align:left” use_theme_fonts=”yes” css=”” el_class=”sub-heading title-color-red”][vc_custom_heading text=”W6N On The Big Screens” use_theme_fonts=”yes” css=”” el_class=”banner-sub-heading”][/vc_column_inner][/vc_row_inner][/vc_column][/vc_row][/vc_section]
URL:https://webrew.co.uk/event/w6n-on-the-big-screens-2/
LOCATION:Unit 4 Taproom
CATEGORIES:Sport
ATTACH;FMTTYPE=image/png:https://webrew.co.uk/wp-content/uploads/2026/01/Womens-rugby.png
END:VEVENT
BEGIN:VEVENT
DTSTART;TZID=UTC:20260415T190000
DTEND;TZID=UTC:20260415T220000
DTSTAMP:20260421T184414
CREATED:20260105T142124Z
LAST-MODIFIED:20260105T142124Z
UID:1853-1776279600-1776290400@webrew.co.uk
SUMMARY:Open Mic Night with Aaron Norton
DESCRIPTION:[vc_section full_width=”stretch_row” el_class=”inner-banner”][vc_row][vc_column][vc_single_image image=”1504″ img_size=”full” alignment=”center” css=””][vc_row_inner el_class=”banner-content-row”][vc_column_inner][/vc_column_inner][/vc_row_inner][/vc_column][/vc_row][/vc_section]
URL:https://webrew.co.uk/event/open-mic-night-with-aaron-norton-10/
LOCATION:Unit 4 Taproom
CATEGORIES:Music
ATTACH;FMTTYPE=image/png:https://webrew.co.uk/wp-content/uploads/2025/10/Open-Mic-Night-For-Web.png
END:VEVENT
BEGIN:VEVENT
DTSTART;TZID=UTC:20260414T190000
DTEND;TZID=UTC:20260414T230000
DTSTAMP:20260421T184414
CREATED:20260224T153300Z
LAST-MODIFIED:20260224T153300Z
UID:2154-1776193200-1776207600@webrew.co.uk
SUMMARY:WILDCAT'S GET BUSY WITH THE QUIZZIE!
DESCRIPTION:[vc_section full_width=”stretch_row” el_class=”inner-banner”][vc_row][vc_column][vc_single_image image=”2155″ img_size=”full” alignment=”center” css=””][vc_row_inner el_class=”banner-content-row”][vc_column_inner][vc_custom_heading text=”Whats On” font_container=”tag:h3|text_align:left” use_theme_fonts=”yes” css=”” el_class=”sub-heading title-color-red”][vc_custom_heading text=”WILDCAT’S GET BUSY WITH THE QUIZZIE!” use_theme_fonts=”yes” css=”” el_class=”banner-sub-heading”][/vc_column_inner][/vc_row_inner][/vc_column][/vc_row][/vc_section]
URL:https://webrew.co.uk/event/wildcats-get-busy-with-the-quizzie/
LOCATION:Unit 4 Taproom
CATEGORIES:Quiz
ATTACH;FMTTYPE=image/png:https://webrew.co.uk/wp-content/uploads/2026/02/Wildcats-Get-Busy-With-The-Quizzie.png
END:VEVENT
BEGIN:VEVENT
DTSTART;TZID=UTC:20260411T122500
DTEND;TZID=UTC:20260411T190000
DTSTAMP:20260421T184414
CREATED:20260105T160925Z
LAST-MODIFIED:20260204T150719Z
UID:1896-1775910300-1775934000@webrew.co.uk
SUMMARY:W6N On The Big Screens
DESCRIPTION:[vc_section full_width=”stretch_row” el_class=”inner-banner”][vc_row][vc_column][vc_single_image image=”1897″ img_size=”full” alignment=”center” css=””][vc_row_inner el_class=”banner-content-row”][vc_column_inner][vc_custom_heading text=”Whats On” font_container=”tag:h3|text_align:left” use_theme_fonts=”yes” css=”” el_class=”sub-heading title-color-red”][vc_custom_heading text=”W6N On The Big Screens” use_theme_fonts=”yes” css=”” el_class=”banner-sub-heading”][/vc_column_inner][/vc_row_inner][/vc_column][/vc_row][/vc_section]
URL:https://webrew.co.uk/event/w6n-on-the-big-screens/
LOCATION:Unit 4 Taproom
CATEGORIES:Sport
ATTACH;FMTTYPE=image/png:https://webrew.co.uk/wp-content/uploads/2026/01/Womens-rugby.png
END:VEVENT
BEGIN:VEVENT
DTSTART;TZID=UTC:20260409T190000
DTEND;TZID=UTC:20260409T210000
DTSTAMP:20260421T184414
CREATED:20260102T145513Z
LAST-MODIFIED:20260102T145513Z
UID:1807-1775761200-1775768400@webrew.co.uk
SUMMARY:KURANSINGS LIVE AT THE GEORGE
DESCRIPTION:[vc_section full_width=”stretch_row” el_class=”inner-banner”][vc_row][vc_column][vc_single_image image=”823″ img_size=”full” css=””][vc_row_inner el_class=”banner-content-row”][vc_column_inner][vc_custom_heading text=”Whats On” font_container=”tag:h3|text_align:left” use_theme_fonts=”yes” css=”” el_class=”sub-heading title-color-red”][vc_custom_heading text=”LIVE MUSIC AT THE GEORGE” use_theme_fonts=”yes” css=”” el_class=”banner-sub-heading”][/vc_column_inner][/vc_row_inner][/vc_column][/vc_row][/vc_section]
URL:https://webrew.co.uk/event/kuransings-live-at-the-george-4/
LOCATION:The George
CATEGORIES:Music
ATTACH;FMTTYPE=image/jpeg:https://webrew.co.uk/wp-content/uploads/2025/08/IMG_2279-e1756313090533.jpg
END:VEVENT
BEGIN:VEVENT
DTSTART;TZID=UTC:20260406T100000
DTEND;TZID=UTC:20260406T170000
DTSTAMP:20260421T184414
CREATED:20260205T122253Z
LAST-MODIFIED:20260220T152413Z
UID:2072-1775469600-1775494800@webrew.co.uk
SUMMARY:WINDSOR & ETON BREWERY FAMILY FUN DAY
DESCRIPTION:[vc_section full_width=”stretch_row” el_class=”inner-banner”][vc_row][vc_column][vc_single_image image=”2114″ img_size=”full” alignment=”center” css=””][vc_row_inner el_class=”banner-content-row”][vc_column_inner][vc_custom_heading text=”Whats On” font_container=”tag:h3|text_align:left” use_theme_fonts=”yes” css=”” el_class=”sub-heading title-color-red”][vc_custom_heading text=”WINDSOR & ETON BREWERY EASTER FAMILY FUN DAY” use_theme_fonts=”yes” css=”” el_class=”banner-sub-heading”][/vc_column_inner][/vc_row_inner][/vc_column][/vc_row][/vc_section]
URL:https://webrew.co.uk/event/windsor-eton-brewery-family-fun-day/
LOCATION:Unit 4 Taproom
CATEGORIES:Family,Games,Music,Other,Party
ATTACH;FMTTYPE=image/png:https://webrew.co.uk/wp-content/uploads/2026/02/WEB-QR-Funday2-16x9@2x-scaled.png
END:VEVENT
BEGIN:VEVENT
DTSTART;TZID=UTC:20260401T190000
DTEND;TZID=UTC:20260401T220000
DTSTAMP:20260421T184414
CREATED:20260105T141930Z
LAST-MODIFIED:20260105T141930Z
UID:1851-1775070000-1775080800@webrew.co.uk
SUMMARY:Open Mic Night with Aaron Norton
DESCRIPTION:[vc_section full_width=”stretch_row” el_class=”inner-banner”][vc_row][vc_column][vc_single_image image=”1504″ img_size=”full” alignment=”center” css=””][vc_row_inner el_class=”banner-content-row”][vc_column_inner][/vc_column_inner][/vc_row_inner][/vc_column][/vc_row][/vc_section]
URL:https://webrew.co.uk/event/open-mic-night-with-aaron-norton-9/
LOCATION:Unit 4 Taproom
CATEGORIES:Music
ATTACH;FMTTYPE=image/png:https://webrew.co.uk/wp-content/uploads/2025/10/Open-Mic-Night-For-Web.png
END:VEVENT
BEGIN:VEVENT
DTSTART;TZID=UTC:20260328T190000
DTEND;TZID=UTC:20260328T230000
DTSTAMP:20260421T184414
CREATED:20260102T142518Z
LAST-MODIFIED:20260126T115629Z
UID:1788-1774724400-1774738800@webrew.co.uk
SUMMARY:WILDCAT WILLIE'S MUSIC BINGO
DESCRIPTION:[vc_section full_width=”stretch_row” el_class=”inner-banner”][vc_row][vc_column][vc_single_image image=”734″ img_size=”full” alignment=”center” css=””][vc_row_inner el_class=”banner-content-row”][vc_column_inner][vc_custom_heading text=”Whats On” font_container=”tag:h3|text_align:left” use_theme_fonts=”yes” css=”” el_class=”sub-heading title-color-red”][vc_custom_heading text=”WILDCAT WILLIE’S MUSIC BINGO” use_theme_fonts=”yes” css=”” el_class=”banner-sub-heading”][/vc_column_inner][/vc_row_inner][/vc_column][/vc_row][/vc_section]
URL:https://webrew.co.uk/event/wildcat-willies-music-bingo/
LOCATION:Unit 4 Taproom
CATEGORIES:Games,Music,Party
ATTACH;FMTTYPE=image/jpeg:https://webrew.co.uk/wp-content/uploads/2025/08/KC-290325-82-scaled-e1756375853844.jpg
END:VEVENT
BEGIN:VEVENT
DTSTART;TZID=UTC:20260128T190000
DTEND;TZID=UTC:20260128T210000
DTSTAMP:20260421T184414
CREATED:20250808T140206Z
LAST-MODIFIED:20260126T154310Z
UID:487-1769626800-1769634000@webrew.co.uk
SUMMARY:QUIZ NIGHT
DESCRIPTION:[vc_section full_width=”stretch_row” el_class=”inner-banner”][vc_row][vc_column][vc_single_image image=”648″ img_size=”full” css=””][vc_row_inner el_class=”banner-content-row”][vc_column_inner][vc_custom_heading text=”Whats On” font_container=”tag:h3|text_align:left” use_theme_fonts=”yes” css=”” el_class=”sub-heading title-color-red”][vc_custom_heading text=”QUIZ NIGHT” use_theme_fonts=”yes” css=”” el_class=”banner-sub-heading”][/vc_column_inner][/vc_row_inner][/vc_column][/vc_row][/vc_section]
URL:https://webrew.co.uk/event/quiz-night/
LOCATION:The George
CATEGORIES:Quiz
ATTACH;FMTTYPE=image/jpeg:https://webrew.co.uk/wp-content/uploads/2025/08/quizzzzzz-e1756314122639.jpg
END:VEVENT
BEGIN:VEVENT
DTSTART;TZID=UTC:20260321T190000
DTEND;TZID=UTC:20260321T233000
DTSTAMP:20260421T184414
CREATED:20251212T101306Z
LAST-MODIFIED:20260102T101306Z
UID:1743-1774119600-1774135800@webrew.co.uk
SUMMARY:KEVIN CRUISE'S CHAOTIC CABARET 80'S NIGHT
DESCRIPTION:[vc_section full_width=”stretch_row” el_class=”inner-banner”][vc_row][vc_column][vc_single_image image=”1744″ img_size=”full” alignment=”center” css=””][vc_row_inner el_class=”banner-content-row”][vc_column_inner][vc_custom_heading text=”Whats On” font_container=”tag:h3|text_align:left” use_theme_fonts=”yes” css=”” el_class=”sub-heading title-color-red”][vc_custom_heading text=”CHAOTIC CABARET 80’S NIGHT” use_theme_fonts=”yes” css=”” el_class=”banner-sub-heading”][/vc_column_inner][/vc_row_inner][/vc_column][/vc_row][/vc_section]
URL:https://webrew.co.uk/event/kevin-cruises-chaotic-cabaret-80s-night/
LOCATION:Unit 4 Taproom
CATEGORIES:Music,Party
ATTACH;FMTTYPE=image/jpeg:https://webrew.co.uk/wp-content/uploads/2025/12/KC-290325-40-scaled.jpg
END:VEVENT
BEGIN:VEVENT
DTSTART;TZID=UTC:20260318T190000
DTEND;TZID=UTC:20260318T220000
DTSTAMP:20260421T184414
CREATED:20260105T141829Z
LAST-MODIFIED:20260105T141829Z
UID:1849-1773860400-1773871200@webrew.co.uk
SUMMARY:Open Mic Night with Aaron Norton
DESCRIPTION:[vc_section full_width=”stretch_row” el_class=”inner-banner”][vc_row][vc_column][vc_single_image image=”1504″ img_size=”full” alignment=”center” css=””][vc_row_inner el_class=”banner-content-row”][vc_column_inner][/vc_column_inner][/vc_row_inner][/vc_column][/vc_row][/vc_section]
URL:https://webrew.co.uk/event/open-mic-night-with-aaron-norton-8/
LOCATION:Unit 4 Taproom
CATEGORIES:Music
ATTACH;FMTTYPE=image/png:https://webrew.co.uk/wp-content/uploads/2025/10/Open-Mic-Night-For-Web.png
END:VEVENT
BEGIN:VEVENT
DTSTART;TZID=UTC:20260128T190000
DTEND;TZID=UTC:20260128T210000
DTSTAMP:20260421T184414
CREATED:20250808T140206Z
LAST-MODIFIED:20260126T154310Z
UID:487-1769626800-1769634000@webrew.co.uk
SUMMARY:QUIZ NIGHT
DESCRIPTION:[vc_section full_width=”stretch_row” el_class=”inner-banner”][vc_row][vc_column][vc_single_image image=”648″ img_size=”full” css=””][vc_row_inner el_class=”banner-content-row”][vc_column_inner][vc_custom_heading text=”Whats On” font_container=”tag:h3|text_align:left” use_theme_fonts=”yes” css=”” el_class=”sub-heading title-color-red”][vc_custom_heading text=”QUIZ NIGHT” use_theme_fonts=”yes” css=”” el_class=”banner-sub-heading”][/vc_column_inner][/vc_row_inner][/vc_column][/vc_row][/vc_section]
URL:https://webrew.co.uk/event/quiz-night/
LOCATION:The George
CATEGORIES:Quiz
ATTACH;FMTTYPE=image/jpeg:https://webrew.co.uk/wp-content/uploads/2025/08/quizzzzzz-e1756314122639.jpg
END:VEVENT
BEGIN:VEVENT
DTSTART;TZID=UTC:20260315T120000
DTEND;TZID=UTC:20260315T200000
DTSTAMP:20260421T184414
CREATED:20260205T094525Z
LAST-MODIFIED:20260205T094525Z
UID:2063-1773576000-1773604800@webrew.co.uk
SUMMARY:MOTHER'S DAY
DESCRIPTION:[vc_section full_width=”stretch_row” el_class=”inner-banner”][vc_row][vc_column][vc_single_image image=”462″ img_size=”full” css=””][vc_row_inner el_class=”banner-content-row”][vc_column_inner][vc_custom_heading text=”Whats On” font_container=”tag:h3|text_align:left” use_theme_fonts=”yes” css=”” el_class=”sub-heading title-color-red”][vc_custom_heading text=”MOTHER’S DAY” use_theme_fonts=”yes” css=”” el_class=”banner-sub-heading”][/vc_column_inner][/vc_row_inner][/vc_column][/vc_row][/vc_section]
URL:https://webrew.co.uk/event/mothers-day/
LOCATION:The George
CATEGORIES:Other
ATTACH;FMTTYPE=image/png:https://webrew.co.uk/wp-content/uploads/2026/02/Mothers-Day.png
END:VEVENT
BEGIN:VEVENT
DTSTART;TZID=UTC:20260314T141000
DTEND;TZID=UTC:20260314T223000
DTSTAMP:20260421T184414
CREATED:20260212T135131Z
LAST-MODIFIED:20260212T135424Z
UID:2098-1773497400-1773527400@webrew.co.uk
SUMMARY:Six Nations 'Super Saturday'
DESCRIPTION:[vc_section full_width=”stretch_row” el_class=”inner-banner”][vc_row][vc_column][vc_single_image image=”1464″ img_size=”full” alignment=”center” css=””][vc_row_inner el_class=”banner-content-row”][vc_column_inner][vc_custom_heading text=”Whats On” font_container=”tag:h3|text_align:left” use_theme_fonts=”yes” css=”” el_class=”sub-heading title-color-red”][vc_custom_heading text=”Six Nations ‘Super Saturday'” use_theme_fonts=”yes” css=”” el_class=”banner-sub-heading”][/vc_column_inner][/vc_row_inner][/vc_column][/vc_row][/vc_section]
URL:https://webrew.co.uk/event/six-nations-super-saturday/
LOCATION:Unit 4 Taproom
CATEGORIES:Sport
ATTACH;FMTTYPE=image/png:https://webrew.co.uk/wp-content/uploads/2025/10/Copy-of-Copy-of-womens-rugby.png
END:VEVENT
BEGIN:VEVENT
DTSTART;TZID=UTC:20260312T190000
DTEND;TZID=UTC:20260312T210000
DTSTAMP:20260421T184414
CREATED:20260202T113050Z
LAST-MODIFIED:20260226T094045Z
UID:2006-1773342000-1773349200@webrew.co.uk
SUMMARY:KURANSINGS LIVE AT THE GEORGE
DESCRIPTION:[vc_section full_width=”stretch_row” el_class=”inner-banner”][vc_row][vc_column][vc_single_image image=”1924″ img_size=”full” css=””][vc_row_inner el_class=”banner-content-row”][vc_column_inner][vc_custom_heading text=”Whats On” font_container=”tag:h3|text_align:left” use_theme_fonts=”yes” css=”” el_class=”sub-heading title-color-red”][vc_custom_heading text=”KURANSINGS LIVE AT THE GEORGE” use_theme_fonts=”yes” css=”” el_class=”banner-sub-heading”][/vc_column_inner][/vc_row_inner][/vc_column][/vc_row][/vc_section]
URL:https://webrew.co.uk/event/kuransings-live-at-the-george-13/
LOCATION:The George
CATEGORIES:Music,Other
ATTACH;FMTTYPE=image/jpeg:https://webrew.co.uk/wp-content/uploads/2026/01/20250812_021347000_iOS.jpg
END:VEVENT
BEGIN:VEVENT
DTSTART;TZID=UTC:20260128T190000
DTEND;TZID=UTC:20260128T210000
DTSTAMP:20260421T184414
CREATED:20250808T140206Z
LAST-MODIFIED:20260126T154310Z
UID:487-1769626800-1769634000@webrew.co.uk
SUMMARY:QUIZ NIGHT
DESCRIPTION:[vc_section full_width=”stretch_row” el_class=”inner-banner”][vc_row][vc_column][vc_single_image image=”648″ img_size=”full” css=””][vc_row_inner el_class=”banner-content-row”][vc_column_inner][vc_custom_heading text=”Whats On” font_container=”tag:h3|text_align:left” use_theme_fonts=”yes” css=”” el_class=”sub-heading title-color-red”][vc_custom_heading text=”QUIZ NIGHT” use_theme_fonts=”yes” css=”” el_class=”banner-sub-heading”][/vc_column_inner][/vc_row_inner][/vc_column][/vc_row][/vc_section]
URL:https://webrew.co.uk/event/quiz-night/
LOCATION:The George
CATEGORIES:Quiz
ATTACH;FMTTYPE=image/jpeg:https://webrew.co.uk/wp-content/uploads/2025/08/quizzzzzz-e1756314122639.jpg
END:VEVENT
BEGIN:VEVENT
DTSTART;TZID=UTC:20260307T141000
DTEND;TZID=UTC:20260307T183000
DTSTAMP:20260421T184414
CREATED:20260212T135651Z
LAST-MODIFIED:20260212T135651Z
UID:2102-1772892600-1772908200@webrew.co.uk
SUMMARY:Rugby On The Big Screens
DESCRIPTION:[vc_section full_width=”stretch_row” el_class=”inner-banner”][vc_row][vc_column][vc_single_image image=”1464″ img_size=”full” alignment=”center” css=””][vc_row_inner el_class=”banner-content-row”][vc_column_inner][vc_custom_heading text=”Whats On” font_container=”tag:h3|text_align:left” use_theme_fonts=”yes” css=”” el_class=”sub-heading title-color-red”][vc_custom_heading text=”Rugby On The Big Screens” use_theme_fonts=”yes” css=”” el_class=”banner-sub-heading”][/vc_column_inner][/vc_row_inner][/vc_column][/vc_row][/vc_section]
URL:https://webrew.co.uk/event/rugby-on-the-big-screens-2/
LOCATION:Unit 4 Taproom
CATEGORIES:Sport
ATTACH;FMTTYPE=image/png:https://webrew.co.uk/wp-content/uploads/2025/10/Copy-of-Copy-of-womens-rugby.png
END:VEVENT
END:VCALENDAR