BEGIN:VCALENDAR
VERSION:2.0
PRODID:-//Windsor &amp; Eton - ECPv6.15.20//NONSGML v1.0//EN
CALSCALE:GREGORIAN
METHOD:PUBLISH
X-ORIGINAL-URL:https://webrew.co.uk
X-WR-CALDESC:Events for Windsor &amp; Eton
REFRESH-INTERVAL;VALUE=DURATION:PT1H
X-Robots-Tag:noindex
X-PUBLISHED-TTL:PT1H
BEGIN:VTIMEZONE
TZID:UTC
BEGIN:STANDARD
TZOFFSETFROM:+0000
TZOFFSETTO:+0000
TZNAME:UTC
DTSTART:20250101T000000
END:STANDARD
END:VTIMEZONE
BEGIN:VEVENT
DTSTART;TZID=UTC:20260513T190000
DTEND;TZID=UTC:20260513T220000
DTSTAMP:20260421T134605
CREATED:20260105T142452Z
LAST-MODIFIED:20260105T142452Z
UID:1857-1778698800-1778709600@webrew.co.uk
SUMMARY:Open Mic Night with Aaron Norton
DESCRIPTION:[vc_section full_width=”stretch_row” el_class=”inner-banner”][vc_row][vc_column][vc_single_image image=”1504″ img_size=”full” alignment=”center” css=””][vc_row_inner el_class=”banner-content-row”][vc_column_inner][/vc_column_inner][/vc_row_inner][/vc_column][/vc_row][/vc_section]
URL:https://webrew.co.uk/event/open-mic-night-with-aaron-norton-12/
LOCATION:Unit 4 Taproom
CATEGORIES:Music
ATTACH;FMTTYPE=image/png:https://webrew.co.uk/wp-content/uploads/2025/10/Open-Mic-Night-For-Web.png
END:VEVENT
BEGIN:VEVENT
DTSTART;TZID=UTC:20260514T190000
DTEND;TZID=UTC:20260514T210000
DTSTAMP:20260421T134605
CREATED:20260102T153203Z
LAST-MODIFIED:20260102T153203Z
UID:1809-1778785200-1778792400@webrew.co.uk
SUMMARY:KURANSINGS LIVE AT THE GEORGE
DESCRIPTION:[vc_section full_width=”stretch_row” el_class=”inner-banner”][vc_row][vc_column][vc_single_image image=”823″ img_size=”full” css=””][vc_row_inner el_class=”banner-content-row”][vc_column_inner][vc_custom_heading text=”Whats On” font_container=”tag:h3|text_align:left” use_theme_fonts=”yes” css=”” el_class=”sub-heading title-color-red”][vc_custom_heading text=”LIVE MUSIC AT THE GEORGE” use_theme_fonts=”yes” css=”” el_class=”banner-sub-heading”][/vc_column_inner][/vc_row_inner][/vc_column][/vc_row][/vc_section]
URL:https://webrew.co.uk/event/kuransings-live-at-the-george-5/
LOCATION:The George
CATEGORIES:Music
ATTACH;FMTTYPE=image/jpeg:https://webrew.co.uk/wp-content/uploads/2025/08/IMG_2279-e1756313090533.jpg
END:VEVENT
BEGIN:VEVENT
DTSTART;TZID=UTC:20260517T121500
DTEND;TZID=UTC:20260517T183000
DTSTAMP:20260421T134605
CREATED:20260105T161542Z
LAST-MODIFIED:20260204T145615Z
UID:1903-1779020100-1779042600@webrew.co.uk
SUMMARY:W6N On The Big Screens
DESCRIPTION:[vc_section full_width=”stretch_row” el_class=”inner-banner”][vc_row][vc_column][vc_single_image image=”1897″ img_size=”full” alignment=”center” css=””][vc_row_inner el_class=”banner-content-row”][vc_column_inner][vc_custom_heading text=”Whats On” font_container=”tag:h3|text_align:left” use_theme_fonts=”yes” css=”” el_class=”sub-heading title-color-red”][vc_custom_heading text=”W6N On The Big Screens” use_theme_fonts=”yes” css=”” el_class=”banner-sub-heading”][/vc_column_inner][/vc_row_inner][/vc_column][/vc_row][/vc_section]
URL:https://webrew.co.uk/event/w6n-on-the-big-screens-3/
LOCATION:Unit 4 Taproom
CATEGORIES:Sport
ATTACH;FMTTYPE=image/png:https://webrew.co.uk/wp-content/uploads/2026/01/Womens-rugby.png
END:VEVENT
BEGIN:VEVENT
DTSTART;TZID=UTC:20260527T190000
DTEND;TZID=UTC:20260527T220000
DTSTAMP:20260421T134605
CREATED:20260105T142739Z
LAST-MODIFIED:20260105T142739Z
UID:1859-1779908400-1779919200@webrew.co.uk
SUMMARY:Open Mic Night with Aaron Norton
DESCRIPTION:[vc_section full_width=”stretch_row” el_class=”inner-banner”][vc_row][vc_column][vc_single_image image=”1504″ img_size=”full” alignment=”center” css=””][vc_row_inner el_class=”banner-content-row”][vc_column_inner][/vc_column_inner][/vc_row_inner][/vc_column][/vc_row][/vc_section]
URL:https://webrew.co.uk/event/open-mic-night-with-aaron-norton-13/
LOCATION:Unit 4 Taproom
CATEGORIES:Music
ATTACH;FMTTYPE=image/png:https://webrew.co.uk/wp-content/uploads/2025/10/Open-Mic-Night-For-Web.png
END:VEVENT
BEGIN:VEVENT
DTSTART;TZID=UTC:20260602T190000
DTEND;TZID=UTC:20260602T230000
DTSTAMP:20260421T134605
CREATED:20260224T153419Z
LAST-MODIFIED:20260224T153419Z
UID:2158-1780426800-1780441200@webrew.co.uk
SUMMARY:WILDCAT'S GET BUSY WITH THE QUIZZIE!
DESCRIPTION:[vc_section full_width=”stretch_row” el_class=”inner-banner”][vc_row][vc_column][vc_single_image image=”2155″ img_size=”full” alignment=”center” css=””][vc_row_inner el_class=”banner-content-row”][vc_column_inner][vc_custom_heading text=”Whats On” font_container=”tag:h3|text_align:left” use_theme_fonts=”yes” css=”” el_class=”sub-heading title-color-red”][vc_custom_heading text=”WILDCAT’S GET BUSY WITH THE QUIZZIE!” use_theme_fonts=”yes” css=”” el_class=”banner-sub-heading”][/vc_column_inner][/vc_row_inner][/vc_column][/vc_row][/vc_section]
URL:https://webrew.co.uk/event/wildcats-get-busy-with-the-quizzie-2/
LOCATION:Unit 4 Taproom
CATEGORIES:Quiz
ATTACH;FMTTYPE=image/png:https://webrew.co.uk/wp-content/uploads/2026/02/Wildcats-Get-Busy-With-The-Quizzie.png
END:VEVENT
BEGIN:VEVENT
DTSTART;TZID=UTC:20260606T190000
DTEND;TZID=UTC:20260606T233000
DTSTAMP:20260421T134605
CREATED:20260106T165705Z
LAST-MODIFIED:20260106T165751Z
UID:1906-1780772400-1780788600@webrew.co.uk
SUMMARY:KEVIN CRUISE'S CHAOTIC CABARET 80'S NIGHT
DESCRIPTION:[vc_section full_width=”stretch_row” el_class=”inner-banner”][vc_row][vc_column][vc_single_image image=”1744″ img_size=”full” alignment=”center” css=””][vc_row_inner el_class=”banner-content-row”][vc_column_inner][vc_custom_heading text=”Whats On” font_container=”tag:h3|text_align:left” use_theme_fonts=”yes” css=”” el_class=”sub-heading title-color-red”][vc_custom_heading text=”CHAOTIC CABARET 80’S NIGHT” use_theme_fonts=”yes” css=”” el_class=”banner-sub-heading”][/vc_column_inner][/vc_row_inner][/vc_column][/vc_row][/vc_section]
URL:https://webrew.co.uk/event/kevin-cruises-chaotic-cabaret-80s-night-3/
LOCATION:Unit 4 Taproom
CATEGORIES:Music,Party
ATTACH;FMTTYPE=image/jpeg:https://webrew.co.uk/wp-content/uploads/2025/12/KC-290325-40-scaled.jpg
END:VEVENT
BEGIN:VEVENT
DTSTART;TZID=UTC:20260610T190000
DTEND;TZID=UTC:20260610T220000
DTSTAMP:20260421T134605
CREATED:20260105T142951Z
LAST-MODIFIED:20260105T142951Z
UID:1861-1781118000-1781128800@webrew.co.uk
SUMMARY:Open Mic Night with Aaron Norton
DESCRIPTION:[vc_section full_width=”stretch_row” el_class=”inner-banner”][vc_row][vc_column][vc_single_image image=”1504″ img_size=”full” alignment=”center” css=””][vc_row_inner el_class=”banner-content-row”][vc_column_inner][/vc_column_inner][/vc_row_inner][/vc_column][/vc_row][/vc_section]
URL:https://webrew.co.uk/event/open-mic-night-with-aaron-norton-14/
LOCATION:Unit 4 Taproom
CATEGORIES:Music
ATTACH;FMTTYPE=image/png:https://webrew.co.uk/wp-content/uploads/2025/10/Open-Mic-Night-For-Web.png
END:VEVENT
BEGIN:VEVENT
DTSTART;TZID=UTC:20260611T190000
DTEND;TZID=UTC:20260611T210000
DTSTAMP:20260421T134605
CREATED:20260102T153247Z
LAST-MODIFIED:20260102T153247Z
UID:1811-1781204400-1781211600@webrew.co.uk
SUMMARY:KURANSINGS LIVE AT THE GEORGE
DESCRIPTION:[vc_section full_width=”stretch_row” el_class=”inner-banner”][vc_row][vc_column][vc_single_image image=”823″ img_size=”full” css=””][vc_row_inner el_class=”banner-content-row”][vc_column_inner][vc_custom_heading text=”Whats On” font_container=”tag:h3|text_align:left” use_theme_fonts=”yes” css=”” el_class=”sub-heading title-color-red”][vc_custom_heading text=”LIVE MUSIC AT THE GEORGE” use_theme_fonts=”yes” css=”” el_class=”banner-sub-heading”][/vc_column_inner][/vc_row_inner][/vc_column][/vc_row][/vc_section]
URL:https://webrew.co.uk/event/kuransings-live-at-the-george-6/
LOCATION:The George
CATEGORIES:Music
ATTACH;FMTTYPE=image/jpeg:https://webrew.co.uk/wp-content/uploads/2025/08/IMG_2279-e1756313090533.jpg
END:VEVENT
BEGIN:VEVENT
DTSTART;TZID=UTC:20260620T190000
DTEND;TZID=UTC:20260620T230000
DTSTAMP:20260421T134605
CREATED:20260116T145857Z
LAST-MODIFIED:20260116T150037Z
UID:1948-1781982000-1781996400@webrew.co.uk
SUMMARY:WILDCAT WILLIE'S MUSIC BINGO
DESCRIPTION:[vc_section full_width=”stretch_row” el_class=”inner-banner”][vc_row][vc_column][vc_single_image image=”734″ img_size=”full” alignment=”center” css=””][vc_row_inner el_class=”banner-content-row”][vc_column_inner][vc_custom_heading text=”Whats On” font_container=”tag:h3|text_align:left” use_theme_fonts=”yes” css=”” el_class=”sub-heading title-color-red”][vc_custom_heading text=”WILDCAT WILLIE’S MUSIC BINGO” use_theme_fonts=”yes” css=”” el_class=”banner-sub-heading”][/vc_column_inner][/vc_row_inner][/vc_column][/vc_row][/vc_section]
URL:https://webrew.co.uk/event/wildcat-willies-music-bingo-2/
LOCATION:Unit 4 Taproom
CATEGORIES:Games,Music,Party
ATTACH;FMTTYPE=image/jpeg:https://webrew.co.uk/wp-content/uploads/2025/08/KC-290325-82-scaled-e1756375853844.jpg
END:VEVENT
BEGIN:VEVENT
DTSTART;TZID=UTC:20260624T190000
DTEND;TZID=UTC:20260624T220000
DTSTAMP:20260421T134605
CREATED:20260105T143034Z
LAST-MODIFIED:20260105T143034Z
UID:1863-1782327600-1782338400@webrew.co.uk
SUMMARY:Open Mic Night with Aaron Norton
DESCRIPTION:[vc_section full_width=”stretch_row” el_class=”inner-banner”][vc_row][vc_column][vc_single_image image=”1504″ img_size=”full” alignment=”center” css=””][vc_row_inner el_class=”banner-content-row”][vc_column_inner][/vc_column_inner][/vc_row_inner][/vc_column][/vc_row][/vc_section]
URL:https://webrew.co.uk/event/open-mic-night-with-aaron-norton-15/
LOCATION:Unit 4 Taproom
CATEGORIES:Music
ATTACH;FMTTYPE=image/png:https://webrew.co.uk/wp-content/uploads/2025/10/Open-Mic-Night-For-Web.png
END:VEVENT
BEGIN:VEVENT
DTSTART;TZID=UTC:20260709T190000
DTEND;TZID=UTC:20260709T210000
DTSTAMP:20260421T134605
CREATED:20260102T153503Z
LAST-MODIFIED:20260102T153503Z
UID:1813-1783623600-1783630800@webrew.co.uk
SUMMARY:KURANSINGS LIVE AT THE GEORGE
DESCRIPTION:[vc_section full_width=”stretch_row” el_class=”inner-banner”][vc_row][vc_column][vc_single_image image=”823″ img_size=”full” css=””][vc_row_inner el_class=”banner-content-row”][vc_column_inner][vc_custom_heading text=”Whats On” font_container=”tag:h3|text_align:left” use_theme_fonts=”yes” css=”” el_class=”sub-heading title-color-red”][vc_custom_heading text=”LIVE MUSIC AT THE GEORGE” use_theme_fonts=”yes” css=”” el_class=”banner-sub-heading”][/vc_column_inner][/vc_row_inner][/vc_column][/vc_row][/vc_section]
URL:https://webrew.co.uk/event/kuransings-live-at-the-george-7/
LOCATION:The George
CATEGORIES:Music
ATTACH;FMTTYPE=image/jpeg:https://webrew.co.uk/wp-content/uploads/2025/08/IMG_2279-e1756313090533.jpg
END:VEVENT
BEGIN:VEVENT
DTSTART;TZID=UTC:20260722T190000
DTEND;TZID=UTC:20260722T220000
DTSTAMP:20260421T134605
CREATED:20260105T143655Z
LAST-MODIFIED:20260105T143655Z
UID:1865-1784746800-1784757600@webrew.co.uk
SUMMARY:Open Mic Night with Aaron Norton
DESCRIPTION:[vc_section full_width=”stretch_row” el_class=”inner-banner”][vc_row][vc_column][vc_single_image image=”1504″ img_size=”full” alignment=”center” css=””][vc_row_inner el_class=”banner-content-row”][vc_column_inner][/vc_column_inner][/vc_row_inner][/vc_column][/vc_row][/vc_section]
URL:https://webrew.co.uk/event/open-mic-night-with-aaron-norton-16/
LOCATION:Unit 4 Taproom
CATEGORIES:Music
ATTACH;FMTTYPE=image/png:https://webrew.co.uk/wp-content/uploads/2025/10/Open-Mic-Night-For-Web.png
END:VEVENT
BEGIN:VEVENT
DTSTART;TZID=UTC:20260724T170000
DTEND;TZID=UTC:20260724T230000
DTSTAMP:20260421T134605
CREATED:20260203T125116Z
LAST-MODIFIED:20260220T093237Z
UID:2017-1784912400-1784934000@webrew.co.uk
SUMMARY:WINDSOR BEER FESTIVAL 2026 DAY 1: THE OPENER
DESCRIPTION:[vc_section full_width=”stretch_row” el_class=”inner-banner”][vc_row][vc_column][vc_single_image image=”2015″ img_size=”full” alignment=”center” css=””][vc_row_inner el_class=”banner-content-row”][vc_column_inner][vc_custom_heading text=”Whats On” font_container=”tag:h3|text_align:left” use_theme_fonts=”yes” css=”” el_class=”sub-heading title-color-red”][vc_custom_heading text=”WINDSOR BEER FESTIVAL 2026″ use_theme_fonts=”yes” css=”” el_class=”banner-sub-heading”][/vc_column_inner][/vc_row_inner][/vc_column][/vc_row][/vc_section]
URL:https://webrew.co.uk/event/windsor-beer-festival-2026/
LOCATION:Unit 4 Taproom
CATEGORIES:Beer Fest,Games,Other,Party
ATTACH;FMTTYPE=image/png:https://webrew.co.uk/wp-content/uploads/2026/02/Beer-Fest-Pres.png
END:VEVENT
BEGIN:VEVENT
DTSTART;TZID=UTC:20260725T120000
DTEND;TZID=UTC:20260725T230000
DTSTAMP:20260421T134605
CREATED:20260204T154738Z
LAST-MODIFIED:20260220T093158Z
UID:2054-1784980800-1785020400@webrew.co.uk
SUMMARY:WINDSOR BEER FESTIVAL 2026 DAY 2: GAMES DAY
DESCRIPTION:[vc_section full_width=”stretch_row” el_class=”inner-banner”][vc_row][vc_column][vc_single_image image=”2015″ img_size=”full” alignment=”center” css=””][vc_row_inner el_class=”banner-content-row”][vc_column_inner][vc_custom_heading text=”Whats On” font_container=”tag:h3|text_align:left” use_theme_fonts=”yes” css=”” el_class=”sub-heading title-color-red”][vc_custom_heading text=”WINDSOR BEER FESTIVAL 2026″ use_theme_fonts=”yes” css=”” el_class=”banner-sub-heading”][/vc_column_inner][/vc_row_inner][/vc_column][/vc_row][/vc_section]
URL:https://webrew.co.uk/event/windsor-beer-festival-2026-2/
LOCATION:Unit 4 Taproom
CATEGORIES:Beer Fest,Games,Other,Party
ATTACH;FMTTYPE=image/png:https://webrew.co.uk/wp-content/uploads/2026/02/Beer-Fest-Pres.png
END:VEVENT
BEGIN:VEVENT
DTSTART;TZID=UTC:20260726T120000
DTEND;TZID=UTC:20260726T200000
DTSTAMP:20260421T134605
CREATED:20260204T155038Z
LAST-MODIFIED:20260220T093326Z
UID:2058-1785067200-1785096000@webrew.co.uk
SUMMARY:WINDSOR BEER FESTIVAL 2026 DAY 3: FAMILY DAY
DESCRIPTION:[vc_section full_width=”stretch_row” el_class=”inner-banner”][vc_row][vc_column][vc_single_image image=”2015″ img_size=”full” alignment=”center” css=””][vc_row_inner el_class=”banner-content-row”][vc_column_inner][vc_custom_heading text=”Whats On” font_container=”tag:h3|text_align:left” use_theme_fonts=”yes” css=”” el_class=”sub-heading title-color-red”][vc_custom_heading text=”WINDSOR BEER FESTIVAL 2026″ use_theme_fonts=”yes” css=”” el_class=”banner-sub-heading”][/vc_column_inner][/vc_row_inner][/vc_column][/vc_row][/vc_section]
URL:https://webrew.co.uk/event/windsor-beer-festival-2026-3/
LOCATION:Unit 4 Taproom
CATEGORIES:Beer Fest,Games,Other,Party
ATTACH;FMTTYPE=image/png:https://webrew.co.uk/wp-content/uploads/2026/02/Beer-Fest-Pres.png
END:VEVENT
BEGIN:VEVENT
DTSTART;TZID=UTC:20260805T190000
DTEND;TZID=UTC:20260805T220000
DTSTAMP:20260421T134605
CREATED:20260105T143803Z
LAST-MODIFIED:20260105T143803Z
UID:1867-1785956400-1785967200@webrew.co.uk
SUMMARY:Open Mic Night with Aaron Norton
DESCRIPTION:[vc_section full_width=”stretch_row” el_class=”inner-banner”][vc_row][vc_column][vc_single_image image=”1504″ img_size=”full” alignment=”center” css=””][vc_row_inner el_class=”banner-content-row”][vc_column_inner][/vc_column_inner][/vc_row_inner][/vc_column][/vc_row][/vc_section]
URL:https://webrew.co.uk/event/open-mic-night-with-aaron-norton-17/
LOCATION:Unit 4 Taproom
CATEGORIES:Music
ATTACH;FMTTYPE=image/png:https://webrew.co.uk/wp-content/uploads/2025/10/Open-Mic-Night-For-Web.png
END:VEVENT
BEGIN:VEVENT
DTSTART;TZID=UTC:20260808T190000
DTEND;TZID=UTC:20260808T230000
DTSTAMP:20260421T134605
CREATED:20260224T155402Z
LAST-MODIFIED:20260227T111354Z
UID:2167-1786215600-1786230000@webrew.co.uk
SUMMARY:WILDCAT'S THAT'S ENTERTAINMENT QUIZ!
DESCRIPTION:[vc_section full_width=”stretch_row” el_class=”inner-banner”][vc_row][vc_column][vc_single_image image=”2155″ img_size=”full” alignment=”center” css=””][vc_row_inner el_class=”banner-content-row”][vc_column_inner][vc_custom_heading text=”Whats On” font_container=”tag:h3|text_align:left” use_theme_fonts=”yes” css=”” el_class=”sub-heading title-color-red”][vc_custom_heading text=”WILDCAT’S THAT’S ENTERTAINMENT QUIZ!” use_theme_fonts=”yes” css=”” el_class=”banner-sub-heading”][/vc_column_inner][/vc_row_inner][/vc_column][/vc_row][/vc_section]
URL:https://webrew.co.uk/event/wildcats-thats-entertainment-quiz-2/
LOCATION:Unit 4 Taproom
CATEGORIES:Quiz
ATTACH;FMTTYPE=image/png:https://webrew.co.uk/wp-content/uploads/2026/02/Thats-Entertainment-Presentation-1.png
END:VEVENT
BEGIN:VEVENT
DTSTART;TZID=UTC:20260813T190000
DTEND;TZID=UTC:20260813T210000
DTSTAMP:20260421T134605
CREATED:20260102T153619Z
LAST-MODIFIED:20260102T153619Z
UID:1815-1786647600-1786654800@webrew.co.uk
SUMMARY:KURANSINGS LIVE AT THE GEORGE
DESCRIPTION:[vc_section full_width=”stretch_row” el_class=”inner-banner”][vc_row][vc_column][vc_single_image image=”823″ img_size=”full” css=””][vc_row_inner el_class=”banner-content-row”][vc_column_inner][vc_custom_heading text=”Whats On” font_container=”tag:h3|text_align:left” use_theme_fonts=”yes” css=”” el_class=”sub-heading title-color-red”][vc_custom_heading text=”LIVE MUSIC AT THE GEORGE” use_theme_fonts=”yes” css=”” el_class=”banner-sub-heading”][/vc_column_inner][/vc_row_inner][/vc_column][/vc_row][/vc_section]
URL:https://webrew.co.uk/event/kuransings-live-at-the-george-8/
LOCATION:The George
CATEGORIES:Music
ATTACH;FMTTYPE=image/jpeg:https://webrew.co.uk/wp-content/uploads/2025/08/IMG_2279-e1756313090533.jpg
END:VEVENT
BEGIN:VEVENT
DTSTART;TZID=UTC:20260902T190000
DTEND;TZID=UTC:20260902T220000
DTSTAMP:20260421T134605
CREATED:20260105T143945Z
LAST-MODIFIED:20260105T143945Z
UID:1869-1788375600-1788386400@webrew.co.uk
SUMMARY:Open Mic Night with Aaron Norton
DESCRIPTION:[vc_section full_width=”stretch_row” el_class=”inner-banner”][vc_row][vc_column][vc_single_image image=”1504″ img_size=”full” alignment=”center” css=””][vc_row_inner el_class=”banner-content-row”][vc_column_inner][/vc_column_inner][/vc_row_inner][/vc_column][/vc_row][/vc_section]
URL:https://webrew.co.uk/event/open-mic-night-with-aaron-norton-18/
LOCATION:Unit 4 Taproom
CATEGORIES:Music
ATTACH;FMTTYPE=image/png:https://webrew.co.uk/wp-content/uploads/2025/10/Open-Mic-Night-For-Web.png
END:VEVENT
BEGIN:VEVENT
DTSTART;TZID=UTC:20260905T190000
DTEND;TZID=UTC:20260905T230000
DTSTAMP:20260421T134605
CREATED:20260402T115831Z
LAST-MODIFIED:20260402T120815Z
UID:2218-1788634800-1788649200@webrew.co.uk
SUMMARY:WILDCAT WILLIE'S MUSIC BINGO
DESCRIPTION:[vc_section full_width=”stretch_row” el_class=”inner-banner”][vc_row][vc_column][vc_single_image image=”734″ img_size=”full” alignment=”center” css=””][vc_row_inner el_class=”banner-content-row”][vc_column_inner][vc_custom_heading text=”Whats On” font_container=”tag:h3|text_align:left” use_theme_fonts=”yes” css=”” el_class=”sub-heading title-color-red”][vc_custom_heading text=”WILDCAT WILLIE’S MUSIC BINGO” use_theme_fonts=”yes” css=”” el_class=”banner-sub-heading”][/vc_column_inner][/vc_row_inner][/vc_column][/vc_row][/vc_section]
URL:https://webrew.co.uk/event/wildcat-willies-music-bingo-3/
LOCATION:Unit 4 Taproom
CATEGORIES:Games,Music,Party
ATTACH;FMTTYPE=image/jpeg:https://webrew.co.uk/wp-content/uploads/2025/08/KC-290325-82-scaled-e1756375853844.jpg
END:VEVENT
BEGIN:VEVENT
DTSTART;TZID=UTC:20260910T190000
DTEND;TZID=UTC:20260910T210000
DTSTAMP:20260421T134605
CREATED:20260102T154524Z
LAST-MODIFIED:20260102T154524Z
UID:1817-1789066800-1789074000@webrew.co.uk
SUMMARY:KURANSINGS LIVE AT THE GEORGE
DESCRIPTION:[vc_section full_width=”stretch_row” el_class=”inner-banner”][vc_row][vc_column][vc_single_image image=”823″ img_size=”full” css=””][vc_row_inner el_class=”banner-content-row”][vc_column_inner][vc_custom_heading text=”Whats On” font_container=”tag:h3|text_align:left” use_theme_fonts=”yes” css=”” el_class=”sub-heading title-color-red”][vc_custom_heading text=”LIVE MUSIC AT THE GEORGE” use_theme_fonts=”yes” css=”” el_class=”banner-sub-heading”][/vc_column_inner][/vc_row_inner][/vc_column][/vc_row][/vc_section]
URL:https://webrew.co.uk/event/kuransings-live-at-the-george-9/
LOCATION:The George
CATEGORIES:Music
ATTACH;FMTTYPE=image/jpeg:https://webrew.co.uk/wp-content/uploads/2025/08/IMG_2279-e1756313090533.jpg
END:VEVENT
BEGIN:VEVENT
DTSTART;TZID=UTC:20260915T190000
DTEND;TZID=UTC:20260915T230000
DTSTAMP:20260421T134605
CREATED:20260224T153731Z
LAST-MODIFIED:20260224T153748Z
UID:2161-1789498800-1789513200@webrew.co.uk
SUMMARY:WILDCAT'S GET BUSY WITH THE QUIZZIE!
DESCRIPTION:[vc_section full_width=”stretch_row” el_class=”inner-banner”][vc_row][vc_column][vc_single_image image=”2155″ img_size=”full” alignment=”center” css=””][vc_row_inner el_class=”banner-content-row”][vc_column_inner][vc_custom_heading text=”Whats On” font_container=”tag:h3|text_align:left” use_theme_fonts=”yes” css=”” el_class=”sub-heading title-color-red”][vc_custom_heading text=”WILDCAT’S GET BUSY WITH THE QUIZZIE!” use_theme_fonts=”yes” css=”” el_class=”banner-sub-heading”][/vc_column_inner][/vc_row_inner][/vc_column][/vc_row][/vc_section]
URL:https://webrew.co.uk/event/wildcats-get-busy-with-the-quizzie-3/
LOCATION:Unit 4 Taproom
CATEGORIES:Quiz
ATTACH;FMTTYPE=image/png:https://webrew.co.uk/wp-content/uploads/2026/02/Wildcats-Get-Busy-With-The-Quizzie.png
END:VEVENT
BEGIN:VEVENT
DTSTART;TZID=UTC:20260916T190000
DTEND;TZID=UTC:20260916T220000
DTSTAMP:20260421T134605
CREATED:20260105T144033Z
LAST-MODIFIED:20260105T144033Z
UID:1871-1789585200-1789596000@webrew.co.uk
SUMMARY:Open Mic Night with Aaron Norton
DESCRIPTION:[vc_section full_width=”stretch_row” el_class=”inner-banner”][vc_row][vc_column][vc_single_image image=”1504″ img_size=”full” alignment=”center” css=””][vc_row_inner el_class=”banner-content-row”][vc_column_inner][/vc_column_inner][/vc_row_inner][/vc_column][/vc_row][/vc_section]
URL:https://webrew.co.uk/event/open-mic-night-with-aaron-norton-19/
LOCATION:Unit 4 Taproom
CATEGORIES:Music
ATTACH;FMTTYPE=image/png:https://webrew.co.uk/wp-content/uploads/2025/10/Open-Mic-Night-For-Web.png
END:VEVENT
BEGIN:VEVENT
DTSTART;TZID=UTC:20260926T190000
DTEND;TZID=UTC:20260926T230000
DTSTAMP:20260421T134605
CREATED:20260114T155706Z
LAST-MODIFIED:20260114T160433Z
UID:1937-1790449200-1790463600@webrew.co.uk
SUMMARY:OKTOBERFEST
DESCRIPTION:[vc_section full_width=”stretch_row” el_class=”inner-banner”][vc_row][vc_column][vc_single_image image=”1940″ img_size=”full” alignment=”center” css=””][vc_row_inner el_class=”banner-content-row”][vc_column_inner][vc_custom_heading text=”Whats On” font_container=”tag:h3|text_align:left” use_theme_fonts=”yes” css=”” el_class=”sub-heading title-color-red”][vc_custom_heading text=”OKTOBERFEST” use_theme_fonts=”yes” css=”” el_class=”banner-sub-heading”][/vc_column_inner][/vc_row_inner][/vc_column][/vc_row][/vc_section]
URL:https://webrew.co.uk/event/oktoberfest/
LOCATION:Unit 4 Taproom
CATEGORIES:Music,Party
ATTACH;FMTTYPE=image/jpeg:https://webrew.co.uk/wp-content/uploads/2026/01/WETP-Oct24-54-scaled.jpg
END:VEVENT
BEGIN:VEVENT
DTSTART;TZID=UTC:20260930T190000
DTEND;TZID=UTC:20260930T220000
DTSTAMP:20260421T134605
CREATED:20260105T144205Z
LAST-MODIFIED:20260105T144205Z
UID:1873-1790794800-1790805600@webrew.co.uk
SUMMARY:Open Mic Night with Aaron Norton
DESCRIPTION:[vc_section full_width=”stretch_row” el_class=”inner-banner”][vc_row][vc_column][vc_single_image image=”1504″ img_size=”full” alignment=”center” css=””][vc_row_inner el_class=”banner-content-row”][vc_column_inner][/vc_column_inner][/vc_row_inner][/vc_column][/vc_row][/vc_section]
URL:https://webrew.co.uk/event/open-mic-night-with-aaron-norton-20/
LOCATION:Unit 4 Taproom
CATEGORIES:Music
ATTACH;FMTTYPE=image/png:https://webrew.co.uk/wp-content/uploads/2025/10/Open-Mic-Night-For-Web.png
END:VEVENT
BEGIN:VEVENT
DTSTART;TZID=UTC:20261008T190000
DTEND;TZID=UTC:20261008T210000
DTSTAMP:20260421T134605
CREATED:20260102T155025Z
LAST-MODIFIED:20260102T155025Z
UID:1819-1791486000-1791493200@webrew.co.uk
SUMMARY:KURANSINGS LIVE AT THE GEORGE
DESCRIPTION:[vc_section full_width=”stretch_row” el_class=”inner-banner”][vc_row][vc_column][vc_single_image image=”823″ img_size=”full” css=””][vc_row_inner el_class=”banner-content-row”][vc_column_inner][vc_custom_heading text=”Whats On” font_container=”tag:h3|text_align:left” use_theme_fonts=”yes” css=”” el_class=”sub-heading title-color-red”][vc_custom_heading text=”LIVE MUSIC AT THE GEORGE” use_theme_fonts=”yes” css=”” el_class=”banner-sub-heading”][/vc_column_inner][/vc_row_inner][/vc_column][/vc_row][/vc_section]
URL:https://webrew.co.uk/event/kuransings-live-at-the-george-10/
LOCATION:The George
CATEGORIES:Music
ATTACH;FMTTYPE=image/jpeg:https://webrew.co.uk/wp-content/uploads/2025/08/IMG_2279-e1756313090533.jpg
END:VEVENT
BEGIN:VEVENT
DTSTART;TZID=UTC:20261014T190000
DTEND;TZID=UTC:20261014T220000
DTSTAMP:20260421T134605
CREATED:20260105T144307Z
LAST-MODIFIED:20260105T144307Z
UID:1875-1792004400-1792015200@webrew.co.uk
SUMMARY:Open Mic Night with Aaron Norton
DESCRIPTION:[vc_section full_width=”stretch_row” el_class=”inner-banner”][vc_row][vc_column][vc_single_image image=”1504″ img_size=”full” alignment=”center” css=””][vc_row_inner el_class=”banner-content-row”][vc_column_inner][/vc_column_inner][/vc_row_inner][/vc_column][/vc_row][/vc_section]
URL:https://webrew.co.uk/event/open-mic-night-with-aaron-norton-21/
LOCATION:Unit 4 Taproom
CATEGORIES:Music
ATTACH;FMTTYPE=image/png:https://webrew.co.uk/wp-content/uploads/2025/10/Open-Mic-Night-For-Web.png
END:VEVENT
BEGIN:VEVENT
DTSTART;TZID=UTC:20261028T190000
DTEND;TZID=UTC:20261028T220000
DTSTAMP:20260421T134605
CREATED:20260105T144444Z
LAST-MODIFIED:20260105T144444Z
UID:1877-1793214000-1793224800@webrew.co.uk
SUMMARY:Open Mic Night with Aaron Norton
DESCRIPTION:[vc_section full_width=”stretch_row” el_class=”inner-banner”][vc_row][vc_column][vc_single_image image=”1504″ img_size=”full” alignment=”center” css=””][vc_row_inner el_class=”banner-content-row”][vc_column_inner][/vc_column_inner][/vc_row_inner][/vc_column][/vc_row][/vc_section]
URL:https://webrew.co.uk/event/open-mic-night-with-aaron-norton-22/
LOCATION:Unit 4 Taproom
CATEGORIES:Music
ATTACH;FMTTYPE=image/png:https://webrew.co.uk/wp-content/uploads/2025/10/Open-Mic-Night-For-Web.png
END:VEVENT
BEGIN:VEVENT
DTSTART;TZID=UTC:20261107T190000
DTEND;TZID=UTC:20261107T230000
DTSTAMP:20260421T134605
CREATED:20260224T155536Z
LAST-MODIFIED:20260227T110838Z
UID:2169-1794078000-1794092400@webrew.co.uk
SUMMARY:WILDCAT'S THAT'S ENTERTAINMENT QUIZ!
DESCRIPTION:[vc_section full_width=”stretch_row” el_class=”inner-banner”][vc_row][vc_column][vc_single_image image=”2155″ img_size=”full” alignment=”center” css=””][vc_row_inner el_class=”banner-content-row”][vc_column_inner][vc_custom_heading text=”Whats On” font_container=”tag:h3|text_align:left” use_theme_fonts=”yes” css=”” el_class=”sub-heading title-color-red”][vc_custom_heading text=”WILDCAT’S THAT’S ENTERTAINMENT QUIZ!” use_theme_fonts=”yes” css=”” el_class=”banner-sub-heading”][/vc_column_inner][/vc_row_inner][/vc_column][/vc_row][/vc_section]
URL:https://webrew.co.uk/event/wildcats-thats-entertainment-quiz-3/
LOCATION:Unit 4 Taproom
CATEGORIES:Quiz
ATTACH;FMTTYPE=image/png:https://webrew.co.uk/wp-content/uploads/2026/02/Thats-Entertainment-Presentation-1.png
END:VEVENT
BEGIN:VEVENT
DTSTART;TZID=UTC:20261111T190000
DTEND;TZID=UTC:20261111T220000
DTSTAMP:20260421T134605
CREATED:20260105T144724Z
LAST-MODIFIED:20260105T144724Z
UID:1879-1794423600-1794434400@webrew.co.uk
SUMMARY:Open Mic Night with Aaron Norton
DESCRIPTION:[vc_section full_width=”stretch_row” el_class=”inner-banner”][vc_row][vc_column][vc_single_image image=”1504″ img_size=”full” alignment=”center” css=””][vc_row_inner el_class=”banner-content-row”][vc_column_inner][/vc_column_inner][/vc_row_inner][/vc_column][/vc_row][/vc_section]
URL:https://webrew.co.uk/event/open-mic-night-with-aaron-norton-23/
LOCATION:Unit 4 Taproom
CATEGORIES:Music
ATTACH;FMTTYPE=image/png:https://webrew.co.uk/wp-content/uploads/2025/10/Open-Mic-Night-For-Web.png
END:VEVENT
END:VCALENDAR