BEGIN:VCALENDAR
VERSION:2.0
PRODID:-//Windsor &amp; Eton - ECPv6.15.20//NONSGML v1.0//EN
CALSCALE:GREGORIAN
METHOD:PUBLISH
X-WR-CALNAME:Windsor &amp; Eton
X-ORIGINAL-URL:https://webrew.co.uk
X-WR-CALDESC:Events for Windsor &amp; Eton
REFRESH-INTERVAL;VALUE=DURATION:PT1H
X-Robots-Tag:noindex
X-PUBLISHED-TTL:PT1H
BEGIN:VTIMEZONE
TZID:UTC
BEGIN:STANDARD
TZOFFSETFROM:+0000
TZOFFSETTO:+0000
TZNAME:UTC
DTSTART:20240101T000000
END:STANDARD
END:VTIMEZONE
BEGIN:VEVENT
DTSTART;TZID=UTC:20260222T151000
DTEND;TZID=UTC:20260222T170000
DTSTAMP:20260421T190816
CREATED:20251216T133440Z
LAST-MODIFIED:20260126T124450Z
UID:1760-1771773000-1771779600@webrew.co.uk
SUMMARY:Rugby On The Big Screens
DESCRIPTION:[vc_section full_width=”stretch_row” el_class=”inner-banner”][vc_row][vc_column][vc_single_image image=”1464″ img_size=”full” alignment=”center” css=””][vc_row_inner el_class=”banner-content-row”][vc_column_inner][vc_custom_heading text=”Whats On” font_container=”tag:h3|text_align:left” use_theme_fonts=”yes” css=”” el_class=”sub-heading title-color-red”][vc_custom_heading text=”Rugby On The Big Screens” use_theme_fonts=”yes” css=”” el_class=”banner-sub-heading”][/vc_column_inner][/vc_row_inner][/vc_column][/vc_row][/vc_section]
URL:https://webrew.co.uk/event/rugby-on-the-big-screens-11/
LOCATION:Unit 4 Taproom
CATEGORIES:Sport
ATTACH;FMTTYPE=image/png:https://webrew.co.uk/wp-content/uploads/2025/10/Copy-of-Copy-of-womens-rugby.png
END:VEVENT
BEGIN:VEVENT
DTSTART;TZID=UTC:20260221T141000
DTEND;TZID=UTC:20260221T183000
DTSTAMP:20260421T190816
CREATED:20251216T132229Z
LAST-MODIFIED:20260126T124026Z
UID:1757-1771683000-1771698600@webrew.co.uk
SUMMARY:Rugby On The Big Screens
DESCRIPTION:[vc_section full_width=”stretch_row” el_class=”inner-banner”][vc_row][vc_column][vc_single_image image=”1464″ img_size=”full” alignment=”center” css=””][vc_row_inner el_class=”banner-content-row”][vc_column_inner][vc_custom_heading text=”Whats On” font_container=”tag:h3|text_align:left” use_theme_fonts=”yes” css=”” el_class=”sub-heading title-color-red”][vc_custom_heading text=”Rugby On The Big Screens” use_theme_fonts=”yes” css=”” el_class=”banner-sub-heading”][/vc_column_inner][/vc_row_inner][/vc_column][/vc_row][/vc_section]
URL:https://webrew.co.uk/event/rugby-on-the-big-screens-10/
LOCATION:Unit 4 Taproom
CATEGORIES:Sport
ATTACH;FMTTYPE=image/png:https://webrew.co.uk/wp-content/uploads/2025/10/Copy-of-Copy-of-womens-rugby.png
END:VEVENT
BEGIN:VEVENT
DTSTART;TZID=UTC:20260218T190000
DTEND;TZID=UTC:20260218T220000
DTSTAMP:20260421T190816
CREATED:20260105T132159Z
LAST-MODIFIED:20260105T132159Z
UID:1844-1771441200-1771452000@webrew.co.uk
SUMMARY:Open Mic Night with Aaron Norton
DESCRIPTION:[vc_section full_width=”stretch_row” el_class=”inner-banner”][vc_row][vc_column][vc_single_image image=”1504″ img_size=”full” alignment=”center” css=””][vc_row_inner el_class=”banner-content-row”][vc_column_inner][/vc_column_inner][/vc_row_inner][/vc_column][/vc_row][/vc_section]
URL:https://webrew.co.uk/event/open-mic-night-with-aaron-norton-6/
LOCATION:Unit 4 Taproom
CATEGORIES:Music
ATTACH;FMTTYPE=image/png:https://webrew.co.uk/wp-content/uploads/2025/10/Open-Mic-Night-For-Web.png
END:VEVENT
BEGIN:VEVENT
DTSTART;TZID=UTC:20260128T190000
DTEND;TZID=UTC:20260128T210000
DTSTAMP:20260421T190816
CREATED:20250808T140206Z
LAST-MODIFIED:20260126T154310Z
UID:487-1769626800-1769634000@webrew.co.uk
SUMMARY:QUIZ NIGHT
DESCRIPTION:[vc_section full_width=”stretch_row” el_class=”inner-banner”][vc_row][vc_column][vc_single_image image=”648″ img_size=”full” css=””][vc_row_inner el_class=”banner-content-row”][vc_column_inner][vc_custom_heading text=”Whats On” font_container=”tag:h3|text_align:left” use_theme_fonts=”yes” css=”” el_class=”sub-heading title-color-red”][vc_custom_heading text=”QUIZ NIGHT” use_theme_fonts=”yes” css=”” el_class=”banner-sub-heading”][/vc_column_inner][/vc_row_inner][/vc_column][/vc_row][/vc_section]
URL:https://webrew.co.uk/event/quiz-night/
LOCATION:The George
CATEGORIES:Quiz
ATTACH;FMTTYPE=image/jpeg:https://webrew.co.uk/wp-content/uploads/2025/08/quizzzzzz-e1756314122639.jpg
END:VEVENT
BEGIN:VEVENT
DTSTART;TZID=UTC:20260217T120000
DTEND;TZID=UTC:20260217T200000
DTSTAMP:20260421T190816
CREATED:20260205T115519Z
LAST-MODIFIED:20260210T112526Z
UID:2067-1771329600-1771358400@webrew.co.uk
SUMMARY:PANCAKE DAY
DESCRIPTION:[vc_row][vc_column][/vc_column][/vc_row][vc_section full_width=”stretch_row” el_class=”inner-banner”][vc_row][vc_column][vc_single_image image=”462″ img_size=”full” css=””][vc_row_inner el_class=”banner-content-row”][vc_column_inner][vc_custom_heading text=”Whats On” font_container=”tag:h3|text_align:left” use_theme_fonts=”yes” css=”” el_class=”sub-heading title-color-red”][vc_custom_heading text=”PANCAKE DAY” use_theme_fonts=”yes” css=”” el_class=”banner-sub-heading”][/vc_column_inner][/vc_row_inner][/vc_column][/vc_row][/vc_section]
URL:https://webrew.co.uk/event/pancake-day/
LOCATION:The George
CATEGORIES:Other
ATTACH;FMTTYPE=image/png:https://webrew.co.uk/wp-content/uploads/2026/02/Pancake-Day-TG-1.png
END:VEVENT
BEGIN:VEVENT
DTSTART;TZID=UTC:20260215T151000
DTEND;TZID=UTC:20260215T183000
DTSTAMP:20260421T190816
CREATED:20251211T153704Z
LAST-MODIFIED:20260105T155308Z
UID:1738-1771168200-1771180200@webrew.co.uk
SUMMARY:Rugby On The Big Screens
DESCRIPTION:[vc_section full_width=”stretch_row” el_class=”inner-banner”][vc_row][vc_column][vc_single_image image=”1464″ img_size=”full” alignment=”center” css=””][vc_row_inner el_class=”banner-content-row”][vc_column_inner][vc_custom_heading text=”Whats On” font_container=”tag:h3|text_align:left” use_theme_fonts=”yes” css=”” el_class=”sub-heading title-color-red”][vc_custom_heading text=”Rugby On The Big Screens” use_theme_fonts=”yes” css=”” el_class=”banner-sub-heading”][/vc_column_inner][/vc_row_inner][/vc_column][/vc_row][/vc_section]
URL:https://webrew.co.uk/event/rugby-on-the-big-screens-8/
LOCATION:Unit 4 Taproom
CATEGORIES:Sport
ATTACH;FMTTYPE=image/png:https://webrew.co.uk/wp-content/uploads/2025/10/Copy-of-Copy-of-womens-rugby.png
END:VEVENT
BEGIN:VEVENT
DTSTART;TZID=UTC:20260214T190000
DTEND;TZID=UTC:20260214T220000
DTSTAMP:20260421T190816
CREATED:20260115T105519Z
LAST-MODIFIED:20260212T095402Z
UID:1942-1771095600-1771106400@webrew.co.uk
SUMMARY:SOPHIE HENDERSON MUSIC LIVE AT THE GEORGE
DESCRIPTION:[vc_section full_width=”stretch_row” el_class=”inner-banner”][vc_row][vc_column][vc_single_image image=”461″ img_size=”full” alignment=”center” css=””][vc_row_inner el_class=”banner-content-row”][vc_column_inner][vc_custom_heading text=”Whats On” font_container=”tag:h3|text_align:left” use_theme_fonts=”yes” css=”” el_class=”sub-heading title-color-red”][vc_custom_heading text=”SOPHIE HENDERSON MUSIC LIVE AT THE GEORGE” use_theme_fonts=”yes” css=”” el_class=”banner-sub-heading”][/vc_column_inner][/vc_row_inner][/vc_column][/vc_row][/vc_section]
URL:https://webrew.co.uk/event/sophie-henderson-music-live-at-the-george/
LOCATION:The George
CATEGORIES:Music
ATTACH;FMTTYPE=image/jpeg:https://webrew.co.uk/wp-content/uploads/2026/01/469739066_18071476333636970_3710150947537797305_n.jpg
END:VEVENT
BEGIN:VEVENT
DTSTART;TZID=UTC:20260214T141000
DTEND;TZID=UTC:20260214T183000
DTSTAMP:20260421T190816
CREATED:20251211T154130Z
LAST-MODIFIED:20260212T112104Z
UID:1741-1771078200-1771093800@webrew.co.uk
SUMMARY:Rugby\, raffles & a little Valentine’s Day luck!
DESCRIPTION:[vc_section full_width=”stretch_row” el_class=”inner-banner”][vc_row][vc_column][vc_single_image image=”1464″ img_size=”full” alignment=”center” css=””][vc_row_inner el_class=”banner-content-row”][vc_column_inner][vc_custom_heading text=”Whats On” font_container=”tag:h3|text_align:left” use_theme_fonts=”yes” css=”” el_class=”sub-heading title-color-red”][vc_custom_heading text=”Rugby On The Big Screens” use_theme_fonts=”yes” css=”” el_class=”banner-sub-heading”][/vc_column_inner][/vc_row_inner][/vc_column][/vc_row][/vc_section]
URL:https://webrew.co.uk/event/rugby-on-the-big-screens-9/
LOCATION:Unit 4 Taproom
CATEGORIES:Sport
ATTACH;FMTTYPE=image/png:https://webrew.co.uk/wp-content/uploads/2025/12/image001.png
END:VEVENT
BEGIN:VEVENT
DTSTART;TZID=UTC:20260214T120000
DTEND;TZID=UTC:20260214T233000
DTSTAMP:20260421T190816
CREATED:20260109T153030Z
LAST-MODIFIED:20260212T095456Z
UID:1926-1771070400-1771111800@webrew.co.uk
SUMMARY:VALENTINE'S DAY
DESCRIPTION:[vc_section full_width=”stretch_row” el_class=”inner-banner”][vc_row][vc_column][vc_single_image image=”1930″ img_size=”full” css=””][vc_row_inner el_class=”banner-content-row”][vc_column_inner][vc_custom_heading text=”Whats On” font_container=”tag:h3|text_align:left” use_theme_fonts=”yes” css=”” el_class=”sub-heading title-color-red”][vc_custom_heading text=”VALENTINE’S DAY” use_theme_fonts=”yes” css=”” el_class=”banner-sub-heading”][/vc_column_inner][/vc_row_inner][/vc_column][/vc_row][/vc_section]
URL:https://webrew.co.uk/event/valentines-day/
LOCATION:The George
CATEGORIES:Other
ATTACH;FMTTYPE=image/png:https://webrew.co.uk/wp-content/uploads/2026/01/Valentines-Day.png
END:VEVENT
BEGIN:VEVENT
DTSTART;TZID=UTC:20260212T190000
DTEND;TZID=UTC:20260212T210000
DTSTAMP:20260421T190816
CREATED:20260121T091428Z
LAST-MODIFIED:20260121T091428Z
UID:1955-1770922800-1770930000@webrew.co.uk
SUMMARY:KURANSINGS LIVE AT THE GEORGE
DESCRIPTION:[vc_section full_width=”stretch_row” el_class=”inner-banner”][vc_row][vc_column][vc_single_image image=”1924″ img_size=”full” css=””][vc_row_inner el_class=”banner-content-row”][vc_column_inner][vc_custom_heading text=”Whats On” font_container=”tag:h3|text_align:left” use_theme_fonts=”yes” css=”” el_class=”sub-heading title-color-red”][vc_custom_heading text=”KURANSINGS LIVE AT THE GEORGE” use_theme_fonts=”yes” css=”” el_class=”banner-sub-heading”][/vc_column_inner][/vc_row_inner][/vc_column][/vc_row][/vc_section]
URL:https://webrew.co.uk/event/kuransings/
LOCATION:The George
CATEGORIES:Music
ATTACH;FMTTYPE=image/jpeg:https://webrew.co.uk/wp-content/uploads/2026/01/20250812_021347000_iOS.jpg
END:VEVENT
BEGIN:VEVENT
DTSTART;TZID=UTC:20260128T190000
DTEND;TZID=UTC:20260128T210000
DTSTAMP:20260421T190816
CREATED:20250808T140206Z
LAST-MODIFIED:20260126T154310Z
UID:487-1769626800-1769634000@webrew.co.uk
SUMMARY:QUIZ NIGHT
DESCRIPTION:[vc_section full_width=”stretch_row” el_class=”inner-banner”][vc_row][vc_column][vc_single_image image=”648″ img_size=”full” css=””][vc_row_inner el_class=”banner-content-row”][vc_column_inner][vc_custom_heading text=”Whats On” font_container=”tag:h3|text_align:left” use_theme_fonts=”yes” css=”” el_class=”sub-heading title-color-red”][vc_custom_heading text=”QUIZ NIGHT” use_theme_fonts=”yes” css=”” el_class=”banner-sub-heading”][/vc_column_inner][/vc_row_inner][/vc_column][/vc_row][/vc_section]
URL:https://webrew.co.uk/event/quiz-night/
LOCATION:The George
CATEGORIES:Quiz
ATTACH;FMTTYPE=image/jpeg:https://webrew.co.uk/wp-content/uploads/2025/08/quizzzzzz-e1756314122639.jpg
END:VEVENT
BEGIN:VEVENT
DTSTART;TZID=UTC:20260210T190000
DTEND;TZID=UTC:20260210T220000
DTSTAMP:20260421T190816
CREATED:20260204T113628Z
LAST-MODIFIED:20260205T090335Z
UID:2028-1770750000-1770760800@webrew.co.uk
SUMMARY:AN EVENING WITH WINDSOR GLEE CLUB
DESCRIPTION:[vc_section full_width=”stretch_row” el_class=”inner-banner”][vc_row][vc_column][vc_single_image image=”574″ img_size=”full” alignment=”center” css=””][vc_row_inner el_class=”banner-content-row”][vc_column_inner][/vc_column_inner][/vc_row_inner][/vc_column][/vc_row][/vc_section]
URL:https://webrew.co.uk/event/an-evening-with-windsor-glee-club/
LOCATION:Unit 4 Taproom
CATEGORIES:Music
ATTACH;FMTTYPE=image/jpeg:https://webrew.co.uk/wp-content/uploads/2025/08/IMG_4190-2-scaled.jpg
END:VEVENT
BEGIN:VEVENT
DTSTART;TZID=UTC:20260207T141000
DTEND;TZID=UTC:20260207T183000
DTSTAMP:20260421T190816
CREATED:20260105T115523Z
LAST-MODIFIED:20260126T123718Z
UID:1835-1770473400-1770489000@webrew.co.uk
SUMMARY:Rugby On The Big Screens
DESCRIPTION:[vc_section full_width=”stretch_row” el_class=”inner-banner”][vc_row][vc_column][vc_single_image image=”1464″ img_size=”full” alignment=”center” css=””][vc_row_inner el_class=”banner-content-row”][vc_column_inner][vc_custom_heading text=”Whats On” font_container=”tag:h3|text_align:left” use_theme_fonts=”yes” css=”” el_class=”sub-heading title-color-red”][vc_custom_heading text=”Rugby On The Big Screens” use_theme_fonts=”yes” css=”” el_class=”banner-sub-heading”][/vc_column_inner][/vc_row_inner][/vc_column][/vc_row][/vc_section]
URL:https://webrew.co.uk/event/rugby-on-the-big-screens-12/
LOCATION:Unit 4 Taproom
CATEGORIES:Sport
ATTACH;FMTTYPE=image/png:https://webrew.co.uk/wp-content/uploads/2025/10/Copy-of-Copy-of-womens-rugby.png
END:VEVENT
BEGIN:VEVENT
DTSTART;TZID=UTC:20260206T183000
DTEND;TZID=UTC:20260206T220000
DTSTAMP:20260421T190816
CREATED:20260204T114858Z
LAST-MODIFIED:20260205T091216Z
UID:2034-1770402600-1770415200@webrew.co.uk
SUMMARY:OPENING CEREMONY OF THE WINTER OLYMPIC GAMES
DESCRIPTION:[vc_section full_width=”stretch_row” el_class=”inner-banner”][vc_row][vc_column][vc_single_image image=”2036″ img_size=”full” alignment=”center” css=””][vc_row_inner el_class=”banner-content-row”][vc_column_inner][/vc_column_inner][/vc_row_inner][/vc_column][/vc_row][/vc_section]
URL:https://webrew.co.uk/event/opening-ceremony-of-the-winter-olympic-games/
LOCATION:Unit 4 Taproom
CATEGORIES:Other
ATTACH;FMTTYPE=image/png:https://webrew.co.uk/wp-content/uploads/2026/02/Winter-Olympics-21-x-14.8-cm-Presentation.png
END:VEVENT
BEGIN:VEVENT
DTSTART;TZID=UTC:20260205T201000
DTEND;TZID=UTC:20260205T221000
DTSTAMP:20260421T190816
CREATED:20251211T153251Z
LAST-MODIFIED:20260126T123155Z
UID:1734-1770322200-1770329400@webrew.co.uk
SUMMARY:Rugby On The Big Screens
DESCRIPTION:[vc_section full_width=”stretch_row” el_class=”inner-banner”][vc_row][vc_column][vc_single_image image=”1464″ img_size=”full” alignment=”center” css=””][vc_row_inner el_class=”banner-content-row”][vc_column_inner][vc_custom_heading text=”Whats On” font_container=”tag:h3|text_align:left” use_theme_fonts=”yes” css=”” el_class=”sub-heading title-color-red”][vc_custom_heading text=”Rugby On The Big Screens” use_theme_fonts=”yes” css=”” el_class=”banner-sub-heading”][/vc_column_inner][/vc_row_inner][/vc_column][/vc_row][/vc_section]
URL:https://webrew.co.uk/event/rugby-on-the-big-screens-7/
LOCATION:Unit 4 Taproom
CATEGORIES:Sport
ATTACH;FMTTYPE=image/png:https://webrew.co.uk/wp-content/uploads/2025/10/Copy-of-Copy-of-womens-rugby.png
END:VEVENT
BEGIN:VEVENT
DTSTART;TZID=UTC:20260204T190000
DTEND;TZID=UTC:20260204T220000
DTSTAMP:20260421T190816
CREATED:20260105T132000Z
LAST-MODIFIED:20260105T132000Z
UID:1842-1770231600-1770242400@webrew.co.uk
SUMMARY:Open Mic Night with Aaron Norton
DESCRIPTION:[vc_section full_width=”stretch_row” el_class=”inner-banner”][vc_row][vc_column][vc_single_image image=”1504″ img_size=”full” alignment=”center” css=””][vc_row_inner el_class=”banner-content-row”][vc_column_inner][/vc_column_inner][/vc_row_inner][/vc_column][/vc_row][/vc_section]
URL:https://webrew.co.uk/event/open-mic-night-with-aaron-norton-5/
LOCATION:Unit 4 Taproom
CATEGORIES:Music
ATTACH;FMTTYPE=image/png:https://webrew.co.uk/wp-content/uploads/2025/10/Open-Mic-Night-For-Web.png
END:VEVENT
BEGIN:VEVENT
DTSTART;TZID=UTC:20260128T190000
DTEND;TZID=UTC:20260128T210000
DTSTAMP:20260421T190816
CREATED:20250808T140206Z
LAST-MODIFIED:20260126T154310Z
UID:487-1769626800-1769634000@webrew.co.uk
SUMMARY:QUIZ NIGHT
DESCRIPTION:[vc_section full_width=”stretch_row” el_class=”inner-banner”][vc_row][vc_column][vc_single_image image=”648″ img_size=”full” css=””][vc_row_inner el_class=”banner-content-row”][vc_column_inner][vc_custom_heading text=”Whats On” font_container=”tag:h3|text_align:left” use_theme_fonts=”yes” css=”” el_class=”sub-heading title-color-red”][vc_custom_heading text=”QUIZ NIGHT” use_theme_fonts=”yes” css=”” el_class=”banner-sub-heading”][/vc_column_inner][/vc_row_inner][/vc_column][/vc_row][/vc_section]
URL:https://webrew.co.uk/event/quiz-night/
LOCATION:The George
CATEGORIES:Quiz
ATTACH;FMTTYPE=image/jpeg:https://webrew.co.uk/wp-content/uploads/2025/08/quizzzzzz-e1756314122639.jpg
END:VEVENT
BEGIN:VEVENT
DTSTART;TZID=UTC:20260128T190000
DTEND;TZID=UTC:20260128T210000
DTSTAMP:20260421T190816
CREATED:20250808T140206Z
LAST-MODIFIED:20260126T154310Z
UID:487-1769626800-1769634000@webrew.co.uk
SUMMARY:QUIZ NIGHT
DESCRIPTION:[vc_section full_width=”stretch_row” el_class=”inner-banner”][vc_row][vc_column][vc_single_image image=”648″ img_size=”full” css=””][vc_row_inner el_class=”banner-content-row”][vc_column_inner][vc_custom_heading text=”Whats On” font_container=”tag:h3|text_align:left” use_theme_fonts=”yes” css=”” el_class=”sub-heading title-color-red”][vc_custom_heading text=”QUIZ NIGHT” use_theme_fonts=”yes” css=”” el_class=”banner-sub-heading”][/vc_column_inner][/vc_row_inner][/vc_column][/vc_row][/vc_section]
URL:https://webrew.co.uk/event/quiz-night/
LOCATION:The George
CATEGORIES:Quiz
ATTACH;FMTTYPE=image/jpeg:https://webrew.co.uk/wp-content/uploads/2025/08/quizzzzzz-e1756314122639.jpg
END:VEVENT
BEGIN:VEVENT
DTSTART;TZID=UTC:20260125T120000
DTEND;TZID=UTC:20260125T200000
DTSTAMP:20260421T190816
CREATED:20260109T150229Z
LAST-MODIFIED:20260119T154500Z
UID:1917-1769342400-1769371200@webrew.co.uk
SUMMARY:BURNS NIGHT SPECIAL
DESCRIPTION:[vc_section full_width=”stretch_row” el_class=”inner-banner”][vc_row][vc_column][vc_single_image image=”1924″ img_size=”full” css=””][vc_row_inner el_class=”banner-content-row”][vc_column_inner][vc_custom_heading text=”Whats On” font_container=”tag:h3|text_align:left” use_theme_fonts=”yes” css=”” el_class=”sub-heading title-color-red”][vc_custom_heading text=”BURNS NIGHT SPECIAL” use_theme_fonts=”yes” css=”” el_class=”banner-sub-heading”][/vc_column_inner][/vc_row_inner][/vc_column][/vc_row][/vc_section]
URL:https://webrew.co.uk/event/burns-night-special/
LOCATION:The George
CATEGORIES:Other
ATTACH;FMTTYPE=image/png:https://webrew.co.uk/wp-content/uploads/2026/01/Burns-Night-Instagram-Post-45.png
END:VEVENT
BEGIN:VEVENT
DTSTART;TZID=UTC:20260121T190000
DTEND;TZID=UTC:20260121T220000
DTSTAMP:20260421T190816
CREATED:20260105T115001Z
LAST-MODIFIED:20260105T115001Z
UID:1833-1769022000-1769032800@webrew.co.uk
SUMMARY:Open Mic Night with Aaron Norton
DESCRIPTION:[vc_section full_width=”stretch_row” el_class=”inner-banner”][vc_row][vc_column][vc_single_image image=”1504″ img_size=”full” alignment=”center” css=””][vc_row_inner el_class=”banner-content-row”][vc_column_inner][/vc_column_inner][/vc_row_inner][/vc_column][/vc_row][/vc_section]
URL:https://webrew.co.uk/event/open-mic-night-with-aaron-norton-4/
LOCATION:Unit 4 Taproom
CATEGORIES:Music
ATTACH;FMTTYPE=image/png:https://webrew.co.uk/wp-content/uploads/2025/10/Open-Mic-Night-For-Web.png
END:VEVENT
BEGIN:VEVENT
DTSTART;VALUE=DATE:20260121
DTEND;VALUE=DATE:20260422
DTSTAMP:20260421T190816
CREATED:20251001T134410Z
LAST-MODIFIED:20260126T141449Z
UID:1291-1768953600-1776815999@webrew.co.uk
SUMMARY:SHUFFLEBOARD
DESCRIPTION:[vc_section full_width=”stretch_row” el_class=”inner-banner”][vc_row][vc_column][vc_single_image image=”588″ img_size=”full” css=””][vc_row_inner el_class=”banner-content-row”][vc_column_inner][vc_custom_heading text=”Whats On” font_container=”tag:h3|text_align:left” use_theme_fonts=”yes” css=”” el_class=”sub-heading title-color-red”][vc_custom_heading text=”SHUFFLEBOARD” use_theme_fonts=”yes” css=”” el_class=”banner-sub-heading”][/vc_column_inner][/vc_row_inner][/vc_column][/vc_row][/vc_section]
URL:https://webrew.co.uk/event/shuffleboard/
LOCATION:Unit 4 Taproom
CATEGORIES:Games
ATTACH;FMTTYPE=image/jpeg:https://webrew.co.uk/wp-content/uploads/2025/08/IMG_2458.jpg
END:VEVENT
BEGIN:VEVENT
DTSTART;TZID=UTC:20260120T190000
DTEND;TZID=UTC:20260120T210000
DTSTAMP:20260421T190816
CREATED:20251216T131543Z
LAST-MODIFIED:20251216T134548Z
UID:1748-1768935600-1768942800@webrew.co.uk
SUMMARY:KnightClub
DESCRIPTION:[vc_section full_width=”stretch_row” el_class=”inner-banner”][vc_row][vc_column][vc_single_image image=”1749″ img_size=”full” alignment=”center” css=””][vc_row_inner el_class=”banner-content-row”][vc_column_inner][vc_custom_heading text=”Whats On” font_container=”tag:h3|text_align:left” use_theme_fonts=”yes” css=”” el_class=”sub-heading title-color-red”][vc_custom_heading text=”KnightClub” use_theme_fonts=”yes” css=”” el_class=”banner-sub-heading”][/vc_column_inner][/vc_row_inner][/vc_column][/vc_row][/vc_section]
URL:https://webrew.co.uk/event/knightclub/
LOCATION:Unit 4 Taproom
CATEGORIES:KnightClub
ATTACH;FMTTYPE=image/jpeg:https://webrew.co.uk/wp-content/uploads/2025/12/P1044131-scaled.jpg
END:VEVENT
BEGIN:VEVENT
DTSTART;TZID=UTC:20260108T190000
DTEND;TZID=UTC:20260108T210000
DTSTAMP:20260421T190816
CREATED:20250418T072006Z
LAST-MODIFIED:20260102T144641Z
UID:211-1767898800-1767906000@webrew.co.uk
SUMMARY:KURANSINGS LIVE AT THE GEORGE
DESCRIPTION:[vc_section full_width=”stretch_row” el_class=”inner-banner”][vc_row][vc_column][vc_single_image image=”823″ img_size=”full” css=””][vc_row_inner el_class=”banner-content-row”][vc_column_inner][vc_custom_heading text=”Whats On” font_container=”tag:h3|text_align:left” use_theme_fonts=”yes” css=”” el_class=”sub-heading title-color-red”][vc_custom_heading text=”LIVE MUSIC AT THE GEORGE” use_theme_fonts=”yes” css=”” el_class=”banner-sub-heading”][/vc_column_inner][/vc_row_inner][/vc_column][/vc_row][/vc_section]
URL:https://webrew.co.uk/event/kuransings-live-at-the-george/
LOCATION:The George
CATEGORIES:Music
ATTACH;FMTTYPE=image/jpeg:https://webrew.co.uk/wp-content/uploads/2025/08/IMG_2279-e1756313090533.jpg
END:VEVENT
BEGIN:VEVENT
DTSTART;TZID=UTC:20251217T181500
DTEND;TZID=UTC:20251217T190000
DTSTAMP:20260421T190816
CREATED:20251120T121447Z
LAST-MODIFIED:20251120T144859Z
UID:1643-1765995300-1765998000@webrew.co.uk
SUMMARY:THE TAPROOM LIVING ADVENTS
DESCRIPTION:[vc_section full_width=”stretch_row” el_class=”inner-banner”][vc_row][vc_column][vc_single_image image=”1615″ img_size=”full” alignment=”center” css=””][vc_row_inner el_class=”banner-content-row”][vc_column_inner][vc_custom_heading text=”Whats On” font_container=”tag:h3|text_align:left” use_theme_fonts=”yes” css=”” el_class=”sub-heading title-color-red”][vc_custom_heading text=”THE TAPROOM LIVING ADVENTS” use_theme_fonts=”yes” css=”” el_class=”banner-sub-heading”][/vc_column_inner][/vc_row_inner][/vc_column][/vc_row][/vc_section]
URL:https://webrew.co.uk/event/the-taproom-living-advents-2/
LOCATION:Unit 4 Taproom
ATTACH;FMTTYPE=image/jpeg:https://webrew.co.uk/wp-content/uploads/2025/11/485691915_1170128078142552_6505187357759626221_n.jpg
END:VEVENT
END:VCALENDAR