BEGIN:VCALENDAR
VERSION:2.0
PRODID:-//Windsor &amp; Eton - ECPv6.15.20//NONSGML v1.0//EN
CALSCALE:GREGORIAN
METHOD:PUBLISH
X-ORIGINAL-URL:https://webrew.co.uk
X-WR-CALDESC:Events for Windsor &amp; Eton
REFRESH-INTERVAL;VALUE=DURATION:PT1H
X-Robots-Tag:noindex
X-PUBLISHED-TTL:PT1H
BEGIN:VTIMEZONE
TZID:UTC
BEGIN:STANDARD
TZOFFSETFROM:+0000
TZOFFSETTO:+0000
TZNAME:UTC
DTSTART:20250101T000000
END:STANDARD
END:VTIMEZONE
BEGIN:VEVENT
DTSTART;TZID=UTC:20261014T190000
DTEND;TZID=UTC:20261014T220000
DTSTAMP:20260421T171847
CREATED:20260105T144307Z
LAST-MODIFIED:20260105T144307Z
UID:1875-1792004400-1792015200@webrew.co.uk
SUMMARY:Open Mic Night with Aaron Norton
DESCRIPTION:[vc_section full_width=”stretch_row” el_class=”inner-banner”][vc_row][vc_column][vc_single_image image=”1504″ img_size=”full” alignment=”center” css=””][vc_row_inner el_class=”banner-content-row”][vc_column_inner][/vc_column_inner][/vc_row_inner][/vc_column][/vc_row][/vc_section]
URL:https://webrew.co.uk/event/open-mic-night-with-aaron-norton-21/
LOCATION:Unit 4 Taproom
CATEGORIES:Music
ATTACH;FMTTYPE=image/png:https://webrew.co.uk/wp-content/uploads/2025/10/Open-Mic-Night-For-Web.png
END:VEVENT
BEGIN:VEVENT
DTSTART;TZID=UTC:20261028T190000
DTEND;TZID=UTC:20261028T220000
DTSTAMP:20260421T171847
CREATED:20260105T144444Z
LAST-MODIFIED:20260105T144444Z
UID:1877-1793214000-1793224800@webrew.co.uk
SUMMARY:Open Mic Night with Aaron Norton
DESCRIPTION:[vc_section full_width=”stretch_row” el_class=”inner-banner”][vc_row][vc_column][vc_single_image image=”1504″ img_size=”full” alignment=”center” css=””][vc_row_inner el_class=”banner-content-row”][vc_column_inner][/vc_column_inner][/vc_row_inner][/vc_column][/vc_row][/vc_section]
URL:https://webrew.co.uk/event/open-mic-night-with-aaron-norton-22/
LOCATION:Unit 4 Taproom
CATEGORIES:Music
ATTACH;FMTTYPE=image/png:https://webrew.co.uk/wp-content/uploads/2025/10/Open-Mic-Night-For-Web.png
END:VEVENT
BEGIN:VEVENT
DTSTART;TZID=UTC:20261107T190000
DTEND;TZID=UTC:20261107T230000
DTSTAMP:20260421T171847
CREATED:20260224T155536Z
LAST-MODIFIED:20260227T110838Z
UID:2169-1794078000-1794092400@webrew.co.uk
SUMMARY:WILDCAT'S THAT'S ENTERTAINMENT QUIZ!
DESCRIPTION:[vc_section full_width=”stretch_row” el_class=”inner-banner”][vc_row][vc_column][vc_single_image image=”2155″ img_size=”full” alignment=”center” css=””][vc_row_inner el_class=”banner-content-row”][vc_column_inner][vc_custom_heading text=”Whats On” font_container=”tag:h3|text_align:left” use_theme_fonts=”yes” css=”” el_class=”sub-heading title-color-red”][vc_custom_heading text=”WILDCAT’S THAT’S ENTERTAINMENT QUIZ!” use_theme_fonts=”yes” css=”” el_class=”banner-sub-heading”][/vc_column_inner][/vc_row_inner][/vc_column][/vc_row][/vc_section]
URL:https://webrew.co.uk/event/wildcats-thats-entertainment-quiz-3/
LOCATION:Unit 4 Taproom
CATEGORIES:Quiz
ATTACH;FMTTYPE=image/png:https://webrew.co.uk/wp-content/uploads/2026/02/Thats-Entertainment-Presentation-1.png
END:VEVENT
BEGIN:VEVENT
DTSTART;TZID=UTC:20261111T190000
DTEND;TZID=UTC:20261111T220000
DTSTAMP:20260421T171847
CREATED:20260105T144724Z
LAST-MODIFIED:20260105T144724Z
UID:1879-1794423600-1794434400@webrew.co.uk
SUMMARY:Open Mic Night with Aaron Norton
DESCRIPTION:[vc_section full_width=”stretch_row” el_class=”inner-banner”][vc_row][vc_column][vc_single_image image=”1504″ img_size=”full” alignment=”center” css=””][vc_row_inner el_class=”banner-content-row”][vc_column_inner][/vc_column_inner][/vc_row_inner][/vc_column][/vc_row][/vc_section]
URL:https://webrew.co.uk/event/open-mic-night-with-aaron-norton-23/
LOCATION:Unit 4 Taproom
CATEGORIES:Music
ATTACH;FMTTYPE=image/png:https://webrew.co.uk/wp-content/uploads/2025/10/Open-Mic-Night-For-Web.png
END:VEVENT
BEGIN:VEVENT
DTSTART;TZID=UTC:20261112T190000
DTEND;TZID=UTC:20261112T210000
DTSTAMP:20260421T171847
CREATED:20260102T155220Z
LAST-MODIFIED:20260102T155220Z
UID:1821-1794510000-1794517200@webrew.co.uk
SUMMARY:KURANSINGS LIVE AT THE GEORGE
DESCRIPTION:[vc_section full_width=”stretch_row” el_class=”inner-banner”][vc_row][vc_column][vc_single_image image=”823″ img_size=”full” css=””][vc_row_inner el_class=”banner-content-row”][vc_column_inner][vc_custom_heading text=”Whats On” font_container=”tag:h3|text_align:left” use_theme_fonts=”yes” css=”” el_class=”sub-heading title-color-red”][vc_custom_heading text=”LIVE MUSIC AT THE GEORGE” use_theme_fonts=”yes” css=”” el_class=”banner-sub-heading”][/vc_column_inner][/vc_row_inner][/vc_column][/vc_row][/vc_section]
URL:https://webrew.co.uk/event/kuransings-live-at-the-george-11/
LOCATION:The George
CATEGORIES:Music
ATTACH;FMTTYPE=image/jpeg:https://webrew.co.uk/wp-content/uploads/2025/08/IMG_2279-e1756313090533.jpg
END:VEVENT
BEGIN:VEVENT
DTSTART;TZID=UTC:20261125T190000
DTEND;TZID=UTC:20261125T220000
DTSTAMP:20260421T171847
CREATED:20260105T144813Z
LAST-MODIFIED:20260105T144813Z
UID:1881-1795633200-1795644000@webrew.co.uk
SUMMARY:Open Mic Night with Aaron Norton
DESCRIPTION:[vc_section full_width=”stretch_row” el_class=”inner-banner”][vc_row][vc_column][vc_single_image image=”1504″ img_size=”full” alignment=”center” css=””][vc_row_inner el_class=”banner-content-row”][vc_column_inner][/vc_column_inner][/vc_row_inner][/vc_column][/vc_row][/vc_section]
URL:https://webrew.co.uk/event/open-mic-night-with-aaron-norton-24/
LOCATION:Unit 4 Taproom
CATEGORIES:Music
ATTACH;FMTTYPE=image/png:https://webrew.co.uk/wp-content/uploads/2025/10/Open-Mic-Night-For-Web.png
END:VEVENT
BEGIN:VEVENT
DTSTART;TZID=UTC:20261209T190000
DTEND;TZID=UTC:20261209T220000
DTSTAMP:20260421T171847
CREATED:20260105T144911Z
LAST-MODIFIED:20260105T144911Z
UID:1883-1796842800-1796853600@webrew.co.uk
SUMMARY:Open Mic Night with Aaron Norton
DESCRIPTION:[vc_section full_width=”stretch_row” el_class=”inner-banner”][vc_row][vc_column][vc_single_image image=”1504″ img_size=”full” alignment=”center” css=””][vc_row_inner el_class=”banner-content-row”][vc_column_inner][/vc_column_inner][/vc_row_inner][/vc_column][/vc_row][/vc_section]
URL:https://webrew.co.uk/event/open-mic-night-with-aaron-norton-25/
LOCATION:Unit 4 Taproom
CATEGORIES:Music
ATTACH;FMTTYPE=image/png:https://webrew.co.uk/wp-content/uploads/2025/10/Open-Mic-Night-For-Web.png
END:VEVENT
BEGIN:VEVENT
DTSTART;TZID=UTC:20261210T190000
DTEND;TZID=UTC:20261210T210000
DTSTAMP:20260421T171847
CREATED:20260102T155325Z
LAST-MODIFIED:20260102T155325Z
UID:1823-1796929200-1796936400@webrew.co.uk
SUMMARY:KURANSINGS LIVE AT THE GEORGE
DESCRIPTION:[vc_section full_width=”stretch_row” el_class=”inner-banner”][vc_row][vc_column][vc_single_image image=”823″ img_size=”full” css=””][vc_row_inner el_class=”banner-content-row”][vc_column_inner][vc_custom_heading text=”Whats On” font_container=”tag:h3|text_align:left” use_theme_fonts=”yes” css=”” el_class=”sub-heading title-color-red”][vc_custom_heading text=”LIVE MUSIC AT THE GEORGE” use_theme_fonts=”yes” css=”” el_class=”banner-sub-heading”][/vc_column_inner][/vc_row_inner][/vc_column][/vc_row][/vc_section]
URL:https://webrew.co.uk/event/kuransings-live-at-the-george-12/
LOCATION:The George
CATEGORIES:Music
ATTACH;FMTTYPE=image/jpeg:https://webrew.co.uk/wp-content/uploads/2025/08/IMG_2279-e1756313090533.jpg
END:VEVENT
BEGIN:VEVENT
DTSTART;TZID=UTC:20261222T190000
DTEND;TZID=UTC:20261222T220000
DTSTAMP:20260421T171847
CREATED:20260105T145204Z
LAST-MODIFIED:20260105T145204Z
UID:1887-1797966000-1797976800@webrew.co.uk
SUMMARY:AARON NORTON'S CHRISTMAS CRACKER
DESCRIPTION:[vc_section full_width=”stretch_row” el_class=”inner-banner”][vc_row][vc_column][vc_single_image image=”1727″ img_size=”full” alignment=”center” css=””][vc_row_inner el_class=”banner-content-row”][vc_column_inner][vc_custom_heading text=”Whats On” font_container=”tag:h3|text_align:left” use_theme_fonts=”yes” css=”” el_class=”sub-heading title-color-red”][vc_custom_heading text=”AARON NORTON’S CHRISTMAS CRACKER” use_theme_fonts=”yes” css=”” el_class=”banner-sub-heading”][/vc_column_inner][/vc_row_inner][/vc_column][/vc_row][/vc_section]
URL:https://webrew.co.uk/event/aaron-nortons-christmas-cracker-2/
LOCATION:Unit 4 Taproom
CATEGORIES:Music
ATTACH;FMTTYPE=image/jpeg:https://webrew.co.uk/wp-content/uploads/2025/12/506444761_1147166417425588_6786645247409873187_n.jpg
END:VEVENT
BEGIN:VEVENT
DTSTART;TZID=UTC:20261227T190000
DTEND;TZID=UTC:20261227T210000
DTSTAMP:20260421T171847
CREATED:20260226T143806Z
LAST-MODIFIED:20260226T143806Z
UID:2180-1798398000-1798405200@webrew.co.uk
SUMMARY:BIG FAT QUIZ OF THE YEAR 2026
DESCRIPTION:[vc_section full_width=”stretch_row” el_class=”inner-banner”][vc_row][vc_column][vc_single_image image=”2003″ img_size=”full” css=””][vc_row_inner el_class=”banner-content-row”][vc_column_inner][vc_custom_heading text=”Whats On” font_container=”tag:h3|text_align:left” use_theme_fonts=”yes” css=”” el_class=”sub-heading title-color-red”][vc_custom_heading text=”BIG FAT QUIZ OF THE YEAR 2026″ use_theme_fonts=”yes” css=”” el_class=”banner-sub-heading”][/vc_column_inner][/vc_row_inner][/vc_column][/vc_row][/vc_section]
URL:https://webrew.co.uk/event/big-fat-quiz-of-the-year-2026/
LOCATION:Unit 4 Taproom
CATEGORIES:Quiz
ATTACH;FMTTYPE=image/png:https://webrew.co.uk/wp-content/uploads/2026/02/big-fat-quiz-2026.png
END:VEVENT
END:VCALENDAR